BEGIN:VCALENDAR
VERSION:2.0
PRODID:-//wp-events-plugin.com//7.2.3.1//EN
TZID:America/New_York
X-WR-TIMEZONE:America/New_York
BEGIN:VEVENT
UID:217@chareejanelle.com
DTSTART;TZID=America/New_York:20250202T153000
DTEND;TZID=America/New_York:20250202T173000
DTSTAMP:20250126T234112Z
URL:https://chareejanelle.com/events-list/imprinting-the-new-you-breathwor
 k-sound-frequency/
SUMMARY:Imprinting The New You Breathwork\, Sound & Frequency
DESCRIPTION:Experience Breathwork\, Sound Healing\, and Advanced Energy Cle
 aring\n\nJoin Charee and Chad for a 2-hour journey of breathwork\, sound h
 ealing\, and advanced energetic clearing that will leave you feeling deepl
 y connected\, relaxed\, and renewed.\n\nWhat to Expect:\n\nCrystal Imprint
 ing: Chad will imprint a crystal for each participant during the class. Th
 is crystal will carry the high-vibrational energy of the experience\, cont
 inuing to support you long after the session.\n\nSound Healing: Charee wil
 l create an incredible soundscape using her expertise in sound therapy to 
 elevate your frequency and support your healing process along with her int
 uitive gifts &amp\; channeling.\n\nBreathwork &amp\; Clearing: Chad will g
 uide the group through powerful breathwork and advanced clearing technique
 s to help you release\, relax\, and cleanse your entire auric field.\n\nFe
 el the Connection: As you work with your crystal and the energies of the s
 ession\, you’ll experience a profound sense of alignment with yourself a
 nd the universe around you.\n\nInvestment: $55 for this exclusive 2-hour e
 xperience.\nSpace is Limited: Only 12 spots are available to maintain an i
 ntimate and high-energy atmosphere.\n\nRegistration is required\n\nLocatio
 n:\n\nVested Mystic\n1008 Stinson Dr.\nLeesport\, PA 1933\n\n&nbsp\;\n\nIf
  you feel called to join us and finances are an issue \,we will work with 
 you\, please reach out.\n\n&nbsp\;\n\n&nbsp\;\n\n
ATTACH;FMTTYPE=image/jpeg:https://chareejanelle.com/wp-content/uploads/202
 5/01/Screenshot_20250126_165419_WhatsApp.jpg
CATEGORIES:Sound,Special guest,Workshops
END:VEVENT
BEGIN:VTIMEZONE
TZID:America/New_York
X-LIC-LOCATION:America/New_York
BEGIN:STANDARD
DTSTART:20241103T010000
TZOFFSETFROM:-0400
TZOFFSETTO:-0500
TZNAME:EST
END:STANDARD
END:VTIMEZONE
END:VCALENDAR