BEGIN:VCALENDAR
VERSION:2.0
PRODID:-//wp-events-plugin.com//7.2.3.1//EN
TZID:America/New_York
X-WR-TIMEZONE:America/New_York
BEGIN:VEVENT
UID:156@chareejanelle.com
DTSTART;TZID=America/New_York:20240715T110000
DTEND;TZID=America/New_York:20240715T121500
DTSTAMP:20240703T142526Z
URL:https://chareejanelle.com/events-list/ignite-flow-of-creation-%e2%9c%a
 8%ef%b8%8ffree-masterclass-charee-jamie/
SUMMARY:IGNITE-FLOW OF CREATION ✨️free masterclass Charee & Jamie
DESCRIPTION:IGNITE - The flow of creation\n\nJoin Holy Fire Reiki Masters\,
  energy healers\, sexual alchemists and transformational guides\, Charee a
 nd Jamie\, for IGNITE\, a free masterclass. During this Masterclass\, you 
 will be taken on a journey through the realms of sexual energy. You will g
 ain a deeper understanding of the power it holds when paired with intentio
 n and purpose. Charee and Jamie will walk you through a practical exercise
 \, alone or with a partner\, to awaken &amp\; activate this powerful energ
 y. This virtual event open to all who seek a deeper connection to their se
 nsuality\, creativity\, leadership and love ❤️\n\nMeet your teachers..
 \n\nOwner of Tranquility Garden LLC.\, Jamie Witham is a Holy Fire III Rei
 ki Master Teacher\, Certified Angelic Channel\, Spiritual Mentor\, Quantiu
 m Manifestation Queen and transformational guide. Her unique ability to ta
 p into the non physical realms has fueled her passion in guiding others to
  their limitless power within for over a decade. She stands for a transfor
 med world and believes we are all here to experience the richness and plea
 sures if we so choose.\n\nOwner/founder of Miraculous Enterprises LLC\, Di
 vine Conduit For Miraculous Transformations\, Charee Janelle is a Yogi\, H
 oly Fire Reiki master teacher\, Mentor\, Intuitive Healer\, Dancer\, Thai 
 practicioner\, Sound Practitioner and founder of Embodied Expression Somat
 ic Dance.  She brings forth divine channeling\, heart opening activations
  and has been holding transformational sacred space for over two decades.\
 n\nJamie and Charee have been friends for 3 years. This cocreation has bee
 n in the ethers for quite some time and we are elated to share this opport
 unity to join us for this Free MasterClass\n\n&nbsp\;\n\nDATE: Monday\, Ju
 ly 15th\n\nTIME: 11am\n\nLOCATION: Zoom room\n\n&nbsp\;\n\n⏬️⏬️REG
 ISTER HERE ⏬️⏬️\n\n&nbsp\;\n\n&nbsp\;\n\nhttps://chareejanelle.as.
 me/?appointmentType=65364789\n\n&nbsp\;\n\n&nbsp\;\n\n&nbsp\;
ATTACH;FMTTYPE=image/jpeg:https://chareejanelle.com/wp-content/uploads/202
 4/07/Screenshot_20240703_101313_Gallery.jpg
CATEGORIES:Special guest
END:VEVENT
BEGIN:VTIMEZONE
TZID:America/New_York
X-LIC-LOCATION:America/New_York
BEGIN:DAYLIGHT
DTSTART:20240310T030000
TZOFFSETFROM:-0500
TZOFFSETTO:-0400
TZNAME:EDT
END:DAYLIGHT
END:VTIMEZONE
END:VCALENDAR