BEGIN:VCALENDAR
VERSION:2.0
PRODID:-//wp-events-plugin.com//7.2.3.1//EN
TZID:America/New_York
X-WR-TIMEZONE:America/New_York
BEGIN:VEVENT
UID:224@chareejanelle.com
DTSTART;TZID=America/New_York:20230721T100000
DTEND;TZID=America/New_York:20230722T180000
DTSTAMP:20250405T134429Z
URL:https://chareejanelle.com/events-list/holy-fire-reiki-immersion-practi
 tioner-training-weekend/
SUMMARY:Holy Fire Reiki Immersion Practitioner Training weekend
DESCRIPTION:Holy Fire Reiki Practitioner Training\n\nHeld at Charee’s Hom
 e Sanctuary\n\nLevels I &amp\; II Training Certification Immersive Weekend
 \n\nLearning Usui Holy Fire Reiki Levels I &amp\; II during this immersive
  weekend training will be an empowering experience that transforms your li
 fe and the lives of those around you.\n\nParticipants gain access to power
 ful and timeless energies\, and experience personal healing on the levels 
 of mind\, body\, and soul.\n\nThe days are full and include a 1-hour lunch
  break plus additional 15-minute breaks will be given about every 90-minut
 es.\n\n&nbsp\;\n\nReiki\n\nReiki Levels I &amp\; II training is a combinat
 ion of lecture\, discussion\, and hands-on/hands-off practice\, which incl
 udes giving and receiving complete Reiki treatments using all the hand pos
 itions. It also consists of learning to heal through intuitively scanning 
 the body for information about where Reiki is needed. You will perform ext
 ensive self-treatment\, use all the level II symbols\, including distance 
 healing\, and several Japanese Reiki techniques.\n\nThe information and te
 chniques covered include:\n\n 	Opening to the infinite flow of Holy Fire R
 eiki (spiritually guided life-force energy)\n 	How to hold Reiki sessions 
 using hand placements and intuitive guidance and how to conduct a distance
  healing session\n 	How to heal unwanted habits of the mind and body\n 	Th
 e sacred Reiki level II symbols and how to use them (including comprehensi
 ve practice time and homework)\n 	Using Reiki for world peace and as a fou
 ndational healing path for a successful career in the healing arts\n 	Stud
 ents receive a 190-page Reiki manual\, certificates for both Reiki levels 
 I and II\, and placements (formerly called attunements).\n\nReasons to Lea
 rn Reiki\n\nThe many benefits of learning Reiki include:\n\n 	Increases in
 tuitive and spiritual gifts\n 	Helps heal yourself and others energeticall
 y\, physically and mentally\n 	Completely shifts and revitalizes your pers
 onal energy\n 	Clears negative thoughts and emotions\n 	Releases and heals
  trauma\n 	Empowers your mind\n 	Purifies and clears limiting beliefs\n 	S
 hifts your consciousness to a higher level\n\nAfter the Training\n\nIt is 
 anticipated that graduates will set aside additional time to practice Reik
 i after the training has ended. Charee suggests dedicating about 2 hours p
 er week for 4-6 weeks. You can do this with others from the group or with 
 friends and family members. This amount of practice is necessary to gain t
 he experience and confidence you need to fully utilize your Reiki training
 .\n\nAbout Your Instructor\n\nCharee Janelle is a Usui Holy Fire Reiki Mas
 ter Teacher. You will feel seen\, heard\, nourished\, and supported with l
 ove by her. She is dedicated to serving\, empowering\, and guiding her stu
 dents back home to their true essence!\n\nInvestment\n\nYour investment fo
 r Holy Fire Practitioner Reiki Training Immersion/Certification I &amp\; I
 I\n\n$600\n\n$555 pay in full by 4/25\n\nbeginning June 2025 prices will i
 ncrease to  $700 for level I/II training\n\n&nbsp\;\n\n$200 NF deposit du
 e at registration.  Balance is due 48 hrs prior to the start of training.
  Payment plans and limited scholarships may be available. Contact Charee a
 bout your request.\nClick on “REGISTER NOW!” then “Select” next to
  Events.\nScroll down the list and click on “Book” for this one.\n
ATTACH;FMTTYPE=image/jpeg:https://chareejanelle.com/wp-content/uploads/202
 3/05/Usui-Holy-Fire-Reiki.jpg
CATEGORIES:Reiki
END:VEVENT
BEGIN:VTIMEZONE
TZID:America/New_York
X-LIC-LOCATION:America/New_York
BEGIN:DAYLIGHT
DTSTART:20230312T030000
TZOFFSETFROM:-0500
TZOFFSETTO:-0400
TZNAME:EDT
END:DAYLIGHT
END:VTIMEZONE
END:VCALENDAR