BEGIN:VCALENDAR
VERSION:2.0
PRODID:-//wp-events-plugin.com//7.2.3.1//EN
TZID:America/New_York
X-WR-TIMEZONE:America/New_York
BEGIN:VEVENT
UID:226@chareejanelle.com
DTSTART;TZID=America/New_York:20250531T100000
DTEND;TZID=America/New_York:20250531T170000
DTSTAMP:20250526T182054Z
URL:https://chareejanelle.com/events-list/holy-fire-reiki-immersion-practi
 tioner-training-weekend-2/
SUMMARY:Holy Fire Reiki Immersion Practitioner (Level I & II) Training week
 end
DESCRIPTION:Holy Fire Reiki Practitioner Training\n\nHeld at Charee’s Hom
 e Sanctuary\n\nLevels I &amp\; II Training Certification Immersive Weekend
 \n\nLearning Usui Holy Fire Reiki Levels I &amp\; II during this immersive
  weekend training will be an empowering experience that transforms your li
 fe and the lives of those around you.  This is the catalyst for deep tran
 sformation!!\n\nParticipants gain access to powerful and timeless energies
 \, and experience personal healing on the levels of mind\, body\, and soul
 .\n\nThe days are full and include a 1-hour lunch break plus additional 15
 -minute breaks will be given about every 90-minutes.\n\n&nbsp\;\n\nReiki\n
 \nReiki Levels I &amp\; II training is a combination of lecture\, discussi
 on\, and hands-on/hands-off practice\, which includes giving and receiving
  complete Reiki treatments using all the hand positions. It also consists 
 of learning to heal through intuitively scanning the body for information 
 about where Reiki is needed. You will perform extensive self-treatment\, u
 se all the level II symbols\, including distance healing\, and several Jap
 anese Reiki techniques.\n\nThe information and techniques covered include:
 \n\n 	Opening to the infinite flow of Holy Fire Reiki (spiritually guided 
 life-force energy)\n 	How to hold Reiki sessions using hand placements and
  intuitive guidance and how to conduct a distance healing session\n 	How t
 o heal unwanted habits of the mind and body\n 	The sacred Reiki level II s
 ymbols and how to use them (including comprehensive practice time and home
 work)\n 	Using Reiki for world peace and as a foundational healing path fo
 r a successful career in the healing arts\n 	Students receive a 190-page R
 eiki manual\, certificates for both Reiki levels I and II\, and placements
  (formerly called attunements).\n\nReasons to Learn Reiki\n\nThe many bene
 fits of learning Reiki include:\n\n 	Increases intuitive and spiritual gif
 ts\n 	Helps heal yourself and others energetically\, physically and mental
 ly\n 	Completely shifts and revitalizes your personal energy\n 	Clears neg
 ative thoughts and emotions\n 	Releases and heals trauma\n 	Empowers your 
 mind\n 	Purifies and clears limiting beliefs\n 	Shifts your consciousness 
 to a higher level\n\nAfter the Training\n\nIt is anticipated that graduate
 s will set aside additional time to practice Reiki after the training has 
 ended. Charee suggests dedicating about 2 hours per week for 4-6 weeks. Yo
 u can do this with others from the group or with friends and family member
 s. This amount of practice is necessary to gain the experience and confide
 nce you need to fully utilize your Reiki training.\n\nAbout Your Instructo
 r\n\nCharee Janelle is a Usui Holy Fire Reiki Master Teacher. You will fee
 l seen\, heard\, nourished\, and supported with love by her. She is dedica
 ted to serving\, empowering\, and guiding her students back home to their 
 true essence!\n\nInvestment\n\nYour investment for Holy Fire Practitioner 
 Reiki Training Immersion/Certification I &amp\; II\n\n&nbsp\;\n\nbeginning
  June 2025 prices will increase to  $700 for level I/II training weekend 
 immersion\n\n&nbsp\;\n\n$200 NF deposit due at registration.  Balance is 
 due 48 hrs prior to the start of training. Payment plans and limited schol
 arships may be available. Contact Charee about your request.\n\n&nbsp\;\n\
 n&nbsp\;\n\nIf you have not received holy fire session with Charee its str
 ongly encouraged to have atleast one or more private session with her prio
 r to training and a few after training.\n\nWhat you decide to do is up to 
 you.\n\nDue to the potent purification that happens during your training t
 ime\, it's highly beneficial \;\n\nHere's why:\n\n&nbsp\;\n\n1. Energetic 
 Preparation\n\n&nbsp\;\n\nReceiving Reiki before an attunement helps clear
  energetic blockages\, balance your chakras\, and raise your vibration. Th
 is creates a cleaner internal “space” for the attunement energy to lan
 d and integrate more smoothly.\n\n&nbsp\;\n\n2. Enhanced Sensitivity\n\n&n
 bsp\;\n\nExperiencing Reiki beforehand can increase your sensitivity to en
 ergy. This makes your attunement more tangible — you’re more likely to
  feel the shifts happening during the ceremony.\n\n&nbsp\;\n\n3. Emotional
  and Physical Detox Support\n\n&nbsp\;\n\nReiki can begin the detox proces
 s early. Since attunements often initiate a 21-day energetic clearing\, re
 ceiving Reiki sessions in advance may soften the intensity of this post-at
 tunement integration.\n\n&nbsp\;\n\n4. Trust and Familiarity\n\n&nbsp\;\n\
 nFor someone new to Reiki\, receiving sessions helps build trust in the pr
 ocess. It creates a direct experience of how Reiki feels and works\, which
  deepens your receptivity during the attunement.\n\n&nbsp\;\n\n5. Groundin
 g and Readiness\n\n&nbsp\;\n\nReiki before attunement helps you ground emo
 tionally\, mentally\, and spiritually. This supports a deeper commitment t
 o the Reiki path and anchors you in the present moment as you open to the 
 new frequency.\n\n&nbsp\;\n\n&nbsp\;\n\n&nbsp\;\nClick on “REGISTER NOW!
 ” then “Select” next to Events.\nScroll down the list and click on 
 “Book” for this one.\n
ATTACH;FMTTYPE=image/jpeg:https://chareejanelle.com/wp-content/uploads/202
 3/05/Usui-Holy-Fire-Reiki.jpg
CATEGORIES:Reiki
END:VEVENT
BEGIN:VTIMEZONE
TZID:America/New_York
X-LIC-LOCATION:America/New_York
BEGIN:DAYLIGHT
DTSTART:20250309T030000
TZOFFSETFROM:-0500
TZOFFSETTO:-0400
TZNAME:EDT
END:DAYLIGHT
END:VTIMEZONE
END:VCALENDAR