BEGIN:VCALENDAR
VERSION:2.0
PRODID:-//wp-events-plugin.com//7.2.3.1//EN
TZID:America/New_York
X-WR-TIMEZONE:America/New_York
BEGIN:VEVENT
UID:237@chareejanelle.com
DTSTART;TZID=America/New_York:20260221T090000
DTEND;TZID=America/New_York:20260222T140000
DTSTAMP:20251208T031421Z
URL:https://chareejanelle.com/events-list/holy-fire-reiki-immersion-practi
 tioner-level-i-ii-training/
SUMMARY:Holy Fire Reiki I & II Immersive Training-  February  2026- in pers
 on /group training
DESCRIPTION:&nbsp\;\n\n&nbsp\;\n\n&nbsp\;\n\n&nbsp\;\n\nHoly Fire Reiki Pra
 ctitioner Training\n\nHeld at School of Miracles\nin Morgantown\, PA\n\n
 Levels I &amp\; II Training Certification Immersive Weekend\n\nLearning Us
 ui Holy Fire Reiki Levels I &amp\; II during this immersive weekend traini
 ng will be an empowering experience that transforms your life and the live
 s of those around you.  This is the catalyst for deep transformation!!\n\
 nParticipants gain access to powerful and timeless energies\, and experien
 ce personal healing on the levels of mind\, body\, and soul.\n\nThe days a
 re full and include a 1-hour lunch break plus additional 15-minute breaks 
 will be given about every 90-minutes.\n\nThis is so much more then a train
 ing\, its a transmission. A soul initiation.\n\nThis experience is designe
 d to nourish you fully\, not just as a student\, but as a future healer &a
 mp\; practicioner.\n\n&nbsp\;\n\n&nbsp\;\n\nHoly Fire Reiki Training is mo
 re than an educational course\; it's a spiritual transformation and a chan
 ce to learn in a setting that emphasizes personal attention. Whether you w
 ish to heal yourself\, assist others\, or simply immerse yourself in a pot
 ent spiritual modality\, this  Holy Fire Reiki Training offers a sacred a
 nd empowering path. This is an investment in a timeless skill that forever
  enriches your life &amp\; your journey.\n\nReiki\n\nReiki Levels I &amp\;
  II training is a combination of lecture\, discussion\, and hands-on/hands
 -off practice\, which includes giving and receiving complete Reiki treatme
 nts using all the hand positions. It also consists of learning to heal thr
 ough intuitively scanning the body for information about where Reiki is ne
 eded. You will perform extensive self-treatment\, use all the level II sym
 bols\, including distance healing\, and several Japanese Reiki techniques.
 \n\nThe information and techniques covered include:\n\n 	Opening to the in
 finite flow of Holy Fire Reiki (spiritually guided life-force energy)\n 	H
 ow to hold Reiki sessions using hand placements and intuitive guidance and
  how to conduct a distance healing session\n 	How to heal unwanted habits 
 of the mind and body\n 	The sacred Reiki level II symbols and how to use t
 hem (including comprehensive practice time and homework)\n 	Using Reiki fo
 r world peace and as a foundational healing path for a successful career i
 n the healing arts\n 	Students receive a 190-page Reiki manual\, certifica
 tes for both Reiki levels I and II\, and placements (formerly called attun
 ements).\n\nReasons to Learn Reiki\n\nThe many benefits of learning Reiki 
 include:\n\n 	Increases intuitive and spiritual gifts\n 	Helps heal yourse
 lf and others energetically\, physically and mentally\n 	Completely shifts
  and revitalizes your personal energy\n 	Clears negative thoughts and emot
 ions\n 	Releases and heals trauma\n 	Empowers your mind\n 	Purifies and cl
 ears limiting beliefs\n 	Shifts your consciousness to a higher level\n\nAf
 ter the Training\n\nIt is anticipated that graduates will set aside additi
 onal time to practice Reiki after the training has ended.  Your teacher g
 uide master educator suggests dedicating at the minimum 3 hours per week f
 or 4-6 weeks. You can do this with others from the group or with friends a
 nd family members. This amount of practice is necessary to gain the experi
 ence and confidence you need to fully utilize your Reiki training.\n\nAbou
 t Your Instructor\n\nNeela Charee Janelle is a Usui Holy Fire Reiki Master
  Teacher\, Yogini\, Spiritual Advisor\, Intuitive\, Bodywork practitioner\
 , Channel &amp\; Heart Centered Embodied multidimensional healer -  she w
 alks her talk and has alchemized real life pain \, trauma into her purpose
 .     She is serious about her purpose work &amp\; pours into those who
 m are ready to receive.  It is an honor to walk this path  alongside you
  brace and courageous souls.  You will feel seen\, heard\, nourished\, em
 powered\, supported with pure essence of her soul &amp\; heart.  She is d
 edicated to serving\, and guiding her students back home to their true aut
 hentic essence!\n\nInvestment $888\n\nIncludes Pre -Attunement Session\n\n
 Comprehensive Holy Fire Reiki Training\n\nIgnitions/Attunement\n\nPractice
  Time + guided experience + sound immersive\n\nTraining Manual\n\nCertific
 ate Bestowed Upon You\n\nPost Training Reiki Share (optional)\n\n30 days p
 rivate whatsaap group w/ students from group\n\nPost training Integration 
 group Session\n\nDiscounted Integration Session available 30 days after ce
 rtification\n\n$300 NF deposit due at registration.\n\nBalance due 24 hrs 
 prior to training\n\nPayment plans and limited scholarships may be availab
 le\n\n&nbsp\;\n\nInquire info@chareejanelle.com\n\n610 463 4051\n\n&nbsp\;
 \nClick on “REGISTER NOW!”\nScroll down the list and click on “Book
 ” for this one.\n
CATEGORIES:Reiki
LOCATION:School of Miracles\, 123 miracle way \, Morgantown \, Pennsylvania
 \, United States
GEO:40.155285;-75.889941
X-APPLE-STRUCTURED-LOCATION;VALUE=URI;X-ADDRESS=123 miracle way \, Morganto
 wn \, Pennsylvania\, United States;X-APPLE-RADIUS=100;X-TITLE=School of Mi
 racles:geo:40.155285,-75.889941
END:VEVENT
BEGIN:VTIMEZONE
TZID:America/New_York
X-LIC-LOCATION:America/New_York
BEGIN:STANDARD
DTSTART:20251102T010000
TZOFFSETFROM:-0400
TZOFFSETTO:-0500
TZNAME:EST
END:STANDARD
END:VTIMEZONE
END:VCALENDAR