BEGIN:VCALENDAR
VERSION:2.0
PRODID:-//wp-events-plugin.com//7.2.3.1//EN
TZID:America/New_York
X-WR-TIMEZONE:America/New_York
BEGIN:VEVENT
UID:329@chareejanelle.com
DTSTART;TZID=America/New_York:20260119T193000
DTEND;TZID=America/New_York:20260119T204500
DTSTAMP:20260113T142952Z
URL:https://chareejanelle.com/events-list/gong-bath-cocoon-restorative-tra
 nsformational-experience-2/
SUMMARY:Gong Bath Cocoon-  Restorative & Transformational Experience
DESCRIPTION:\n\n\n\n\nGONG BATH COCOON\n\n\n\n\n\n\n\nHeld at School of Mir
 acles\nin Morgantown\, PA\n\n\n\n\n\n\n\n\nRelax and restore while being 
 gently cradled in a comfortable hammock of soft silks and being bathed in 
 the healing vibrations of sound!\n\n\n\n\n\n\nDuring a Gong Bath Cocoon\, 
 you cozy up with a blanket and pillow while being suspended inside yoga ae
 rial silks. Charee strikes a gong to emphasize intentional moments during 
 the session.\n\n\n\n\n\n\nThe sound produced is a sacred portal through wh
 ich you become more aware of your thoughts and feelings. You begin to real
 ize your infinite potential and enjoy emotional release and pain relief.\n
 \n\n\n\n\n\nThe womb-like feeling of floating combined with the soothing s
 ound vibrations of the gong is an immersive healing experience. You’ll c
 ome away feeling calmer\, happier\, more connected to your soul essence\, 
 and with a greater sense of well-being.\n\n\n\n\n\n\nPlease wear non-const
 ricting\, light-weight clothing and bring a blanket\, small pillow\, and s
 ocks for your comfort.\n\n\n\n\n\n\nFEE\n\n\n\n\n\n\n$50  is due at the t
 ime of registration and all major credit/debit cards are accepted.\n\n\n\n
 \n\n\nClick on “REGISTER NOW” then “Select” next to Events.\n\n\n\
 n\n\n\n\nScroll down the list and click on “Book” for this one.\n\n\n&
 nbsp\;\n\n\n\n\n\n\n&nbsp\;\n\n&nbsp\;\n\n&nbsp\;
ATTACH;FMTTYPE=image/jpeg:https://chareejanelle.com/wp-content/uploads/202
 6/01/FB_IMG_1768217579167.jpg
CATEGORIES:Cocoon Gong Bath
LOCATION:School of Miracles\, 1191 shiloh road\, Morgantown \, Pennsylvania
 \, United States
GEO:40.178288;-75.917456
X-APPLE-STRUCTURED-LOCATION;VALUE=URI;X-ADDRESS=1191 shiloh road\, Morganto
 wn \, Pennsylvania\, United States;X-APPLE-RADIUS=100;X-TITLE=School of Mi
 racles:geo:40.178288,-75.917456
END:VEVENT
BEGIN:VTIMEZONE
TZID:America/New_York
X-LIC-LOCATION:America/New_York
BEGIN:STANDARD
DTSTART:20251102T010000
TZOFFSETFROM:-0400
TZOFFSETTO:-0500
TZNAME:EST
END:STANDARD
END:VTIMEZONE
END:VCALENDAR