BEGIN:VCALENDAR
VERSION:2.0
PRODID:-//wp-events-plugin.com//7.2.3.1//EN
TZID:America/New_York
X-WR-TIMEZONE:America/New_York
BEGIN:VEVENT
UID:274@chareejanelle.com
DTSTART;TZID=America/New_York:20251201T193000
DTEND;TZID=America/New_York:20251201T203000
DTSTAMP:20250924T215840Z
URL:https://chareejanelle.com/events-list/gong-bath-cocoon-8/
SUMMARY:Gong Bath Cocoon
DESCRIPTION:\n\n\nGONG BATH COCOON\n\n\n\n\n\n\n\nHeld at School of Miracle
 s\nin Morgantown\, PA\n\n\n\n\n\n\n\n\nRelax and restore while being gent
 ly cradled in a comfortable hammock of soft silks and being bathed in the 
 healing vibrations of sound!\n\n\n\n\n\n\nDuring a Gong Bath Cocoon\, you 
 cozy up with a blanket and pillow while being suspended inside yoga aerial
  silks. Charee strikes a gong to emphasize intentional moments during the 
 session.\n\n\n\n\n\n\nThe sound produced is a sacred portal through which 
 you become more aware of your thoughts and feelings. You begin to realize 
 your infinite potential and enjoy emotional release and pain relief.\n\n\n
 \n\n\n\nThe womb-like feeling of floating combined with the soothing sound
  vibrations of the gong is an immersive healing experience. You’ll come 
 away feeling calmer\, happier\, more connected to your soul essence\, and 
 with a greater sense of well-being.\n\n\n\n\n\n\nPlease wear non-constrict
 ing\, light-weight clothing and bring a blanket\, small pillow\, and socks
  for your comfort.\n\n\n\n\n\n\nFEE\n\n\n\n\n\n\n$44 is due at the time of
  registration and all major credit/debit cards are accepted.\n\n\n\n\n\n\n
 Click on “REGISTER NOW” then “Select” next to Events.\n\n\n\n\n\n\
 n\nScroll down the list and click on “Book” for this one.\n\n\n\n\n\n\
 n
ATTACH;FMTTYPE=image/jpeg:https://chareejanelle.com/wp-content/uploads/202
 5/09/Cocoon-Gong-Bath.jpeg
CATEGORIES:Cocoon Gong Bath
LOCATION:School of Miracles\, 123 miracle way \, Morgantown \, Pennsylvania
 \, United States
GEO:40.155285;-75.889941
X-APPLE-STRUCTURED-LOCATION;VALUE=URI;X-ADDRESS=123 miracle way \, Morganto
 wn \, Pennsylvania\, United States;X-APPLE-RADIUS=100;X-TITLE=School of Mi
 racles:geo:40.155285,-75.889941
END:VEVENT
BEGIN:VTIMEZONE
TZID:America/New_York
X-LIC-LOCATION:America/New_York
BEGIN:STANDARD
DTSTART:20251102T010000
TZOFFSETFROM:-0400
TZOFFSETTO:-0500
TZNAME:EST
END:STANDARD
END:VTIMEZONE
END:VCALENDAR