BEGIN:VCALENDAR
VERSION:2.0
PRODID:-//wp-events-plugin.com//7.2.3.1//EN
TZID:America/New_York
X-WR-TIMEZONE:America/New_York
BEGIN:VEVENT
UID:271@chareejanelle.com
DTSTART;TZID=America/New_York:20251020T193000
DTEND;TZID=America/New_York:20251020T203000
DTSTAMP:20250924T215710Z
URL:https://chareejanelle.com/events-list/gong-bath-cocoon-5/
SUMMARY:Gong Bath Cocoon
DESCRIPTION:\n\n\nGONG BATH COCOON\n\n\n\n\n\n\n\nHeld at the School of Mir
 acles\nin Morgantown\, PA\n\n\n\n\n\n\n\n\nRelax and restore while being 
 gently cradled in a comfortable hammock of soft silks and being bathed in 
 the healing vibrations of sound!\n\n\n\n\n\n\nDuring a Gong Bath Cocoon\, 
 you cozy up with a blanket and pillow while being suspended inside yoga ae
 rial silks. Charee strikes a gong to emphasize intentional moments during 
 the session.\n\n\n\n\n\n\nThe sound produced is a sacred portal through wh
 ich you become more aware of your thoughts and feelings. You begin to real
 ize your infinite potential and enjoy emotional release and pain relief.\n
 \n\n\n\n\n\nThe womb-like feeling of floating combined with the soothing s
 ound vibrations of the gong is an immersive healing experience. You’ll c
 ome away feeling calmer\, happier\, more connected to your soul essence\, 
 and with a greater sense of well-being.\n\n\n\n\n\n\nPlease wear non-const
 ricting\, light-weight clothing and bring a blanket\, small pillow\, and s
 ocks for your comfort.\n\n\n\n\n\n\nFEE\n\n\n\n\n\n\n$44 is due at the tim
 e of registration and all major credit/debit cards are accepted.\n\n\n\n\n
 \n\nClick on “REGISTER NOW” then “Select” next to Events.\n\n\n\n\
 n\n\n\nScroll down the list and click on “Book” for this one.\n\n\n\n\
 n\n\n
ATTACH;FMTTYPE=image/jpeg:https://chareejanelle.com/wp-content/uploads/202
 5/09/Cocoon-Gong-Bath.jpeg
CATEGORIES:Cocoon Gong Bath
LOCATION:School of Miracles\, 123 miracle way \, Morgantown \, Pennsylvania
 \, United States
GEO:40.155285;-75.889941
X-APPLE-STRUCTURED-LOCATION;VALUE=URI;X-ADDRESS=123 miracle way \, Morganto
 wn \, Pennsylvania\, United States;X-APPLE-RADIUS=100;X-TITLE=School of Mi
 racles:geo:40.155285,-75.889941
END:VEVENT
BEGIN:VTIMEZONE
TZID:America/New_York
X-LIC-LOCATION:America/New_York
BEGIN:DAYLIGHT
DTSTART:20250309T030000
TZOFFSETFROM:-0500
TZOFFSETTO:-0400
TZNAME:EDT
END:DAYLIGHT
END:VTIMEZONE
END:VCALENDAR