BEGIN:VCALENDAR
VERSION:2.0
PRODID:-//wp-events-plugin.com//7.2.3.1//EN
TZID:America/New_York
X-WR-TIMEZONE:America/New_York
BEGIN:VEVENT
UID:270@chareejanelle.com
DTSTART;TZID=America/New_York:20251006T193000
DTEND;TZID=America/New_York:20251006T203000
DTSTAMP:20250924T214131Z
URL:https://chareejanelle.com/events-list/gong-bath-cocoon-4/
SUMMARY:Gong Bath Cocoon
DESCRIPTION:\n\n\nGONG BATH COCOON\n\n\n\n\n\n\n\nHeld at School of Miracl
 es\nin Morgantown\, PA\n\n\n\n\n\n\n\n\nRelax and restore while being gen
 tly cradled in a comfortable hammock of soft silks and being bathed in the
  healing vibrations of sound!\n\n\n\n\n\n\nDuring a Gong Bath Cocoon\, you
  cozy up with a blanket and pillow while being suspended inside yoga aeria
 l silks. Charee strikes a gong to emphasize intentional moments during the
  session.\n\n\n\n\n\n\nThe sound produced is a sacred portal through which
  you become more aware of your thoughts and feelings. You begin to realize
  your infinite potential and enjoy emotional release and pain relief.\n\n\
 n\n\n\n\nThe womb-like feeling of floating combined with the soothing soun
 d vibrations of the gong is an immersive healing experience. You’ll come
  away feeling calmer\, happier\, more connected to your soul essence\, and
  with a greater sense of well-being.\n\n\n\n\n\n\nPlease wear non-constric
 ting\, light-weight clothing and bring a blanket\, small pillow\, and sock
 s for your comfort.\n\n\n\n\n\n\nFEE\n\n\n\n\n\n\n$44 is due at the time o
 f registration and all major credit/debit cards are accepted.\n\n\n\n\n\n\
 nClick on “REGISTER NOW” then “Select” next to Events.\n\n\n\n\n\n
 \n\nScroll down the list and click on “Book” for this one.\n\n\n\n\n\n
 \n
ATTACH;FMTTYPE=image/jpeg:https://chareejanelle.com/wp-content/uploads/202
 5/09/Cocoon-Gong-Bath.jpeg
CATEGORIES:Cocoon Gong Bath
LOCATION:School of Miracles\, 123 miracle way \, Morgantown \, Pennsylvania
 \, United States
GEO:40.155285;-75.889941
X-APPLE-STRUCTURED-LOCATION;VALUE=URI;X-ADDRESS=123 miracle way \, Morganto
 wn \, Pennsylvania\, United States;X-APPLE-RADIUS=100;X-TITLE=School of Mi
 racles:geo:40.155285,-75.889941
END:VEVENT
BEGIN:VTIMEZONE
TZID:America/New_York
X-LIC-LOCATION:America/New_York
BEGIN:DAYLIGHT
DTSTART:20250309T030000
TZOFFSETFROM:-0500
TZOFFSETTO:-0400
TZNAME:EDT
END:DAYLIGHT
END:VTIMEZONE
END:VCALENDAR