BEGIN:VCALENDAR
VERSION:2.0
PRODID:-//wp-events-plugin.com//7.2.3.1//EN
TZID:America/New_York
X-WR-TIMEZONE:America/New_York
BEGIN:VEVENT
UID:255@chareejanelle.com
DTSTART;TZID=America/New_York:20231002T193000
DTEND;TZID=America/New_York:20231002T203000
DTSTAMP:20250904T160909Z
URL:https://chareejanelle.com/events-list/gong-bath-cocoon-2023-09-04-2023
 -09-18-2023-10-02/
SUMMARY:Gong Bath Cocoon
DESCRIPTION:\n\nGONG BATH COCOON\n\n\n\n\n\n\n\nHeld at Charee’s Home Sa
 nctuary\nin Morgantown\, PA\n\n\n\n\n\n\n\n\nRelax and restore while bein
 g gently cradled in a comfortable hammock of soft silks and being bathed i
 n the healing vibrations of sound!\n\n\n\n\n\n\nDuring a Gong Bath Cocoon\
 , you cozy up with a blanket and pillow while being suspended inside yoga 
 aerial silks. Charee strikes a gong to emphasize intentional moments durin
 g the session.\n\n\n\n\n\n\nThe sound produced is a sacred portal through 
 which you become more aware of your thoughts and feelings. You begin to re
 alize your infinite potential and enjoy emotional release and pain relief.
 \n\n\n\n\n\n\nThe womb-like feeling of floating combined with the soothing
  sound vibrations of the gong is an immersive healing experience. You’ll
  come away feeling calmer\, happier\, more connected to your soul essence\
 , and with a greater sense of well-being.\n\n\n\n\n\n\nPlease wear non-con
 stricting\, light-weight clothing and bring a blanket\, small pillow\, and
  socks for your comfort.\n\n\n\n\n\n\nFEE\n\n\n\n\n\n\n$33 is due at the t
 ime of registration and all major credit/debit cards are accepted.\n\n\n\n
 \n\n\nClick on “REGISTER NOW” then “Select” next to Events.\n\n\n\
 n\n\n\n\nScroll down the list and click on “Book” for this one.\n\n\n\
 n\n\n\n
ATTACH;FMTTYPE=image/jpeg:https://chareejanelle.com/wp-content/uploads/202
 2/07/Gong-Bath-Cocoon.jpg
CATEGORIES:Workshops
END:VEVENT
BEGIN:VTIMEZONE
TZID:America/New_York
X-LIC-LOCATION:America/New_York
BEGIN:DAYLIGHT
DTSTART:20230312T030000
TZOFFSETFROM:-0500
TZOFFSETTO:-0400
TZNAME:EDT
END:DAYLIGHT
END:VTIMEZONE
END:VCALENDAR