BEGIN:VCALENDAR
VERSION:2.0
PRODID:-//wp-events-plugin.com//7.2.3.1//EN
TZID:America/New_York
X-WR-TIMEZONE:America/New_York
BEGIN:VEVENT
UID:86@chareejanelle.com
DTSTART;TZID=America/New_York:20230820T130000
DTEND;TZID=America/New_York:20230820T160000
DTSTAMP:20230811T124758Z
URL:https://chareejanelle.com/events-list/glacial-rhythms/
SUMMARY:Glacial Rhythms -IceBath\, BreathWork + Dance
DESCRIPTION:Embrace a truly unique and transformative experience with our B
 reathwork + Ice Bath～ Dance Event.\nThis private event is nestled amidst
  the beauty of nature\, Charee's sanctuary provides awakening healing &amp
 \; life transformation\, supporting your journey of discovering your authe
 ntic self &amp\; self mastery.\n\nWe begin our practice of breathwork\, ex
 pertly guided by Breathworker Daniel.  Through intentional and conscious 
 breathing\, you'll unlock your inner power\, releasing stress\, and connec
 ting deeply with your present self. The breathwork session will open your 
 heart\, mind\, and spirit\, paving the way for a transformative experience
  ahead.\n\nAfter the invigorating breathwork session\, you'll embrace the 
 exhilarating ice bath\, an awakening encounter with your inner strength. D
 aniel's compassionate guidance will support you as you step into the refre
 shing cold waters\, revitalizing your body and mind. The ice bath experien
 ce serves as a powerful catalyst for resilience\, mental clarity\, and a p
 rofound connection to your own inner reservoir of power.\n\nAs you emerge 
 from the ice bath\, the atmosphere transforms into a vibrant dance floor\,
  awaiting the rhythmic beats and empowering movements of Ecstatic Dance. U
 nder the skillful direction &amp\; experienced guide\, Charee\, you'll let
  go of inhibitions\, allowing your body to express itself freely and joyfu
 lly. The dance becomes a celebration of your newfound vitality and an hono
 ring of the divine feminine energy that resides within you. Join us on thi
 s remarkable journey of breath\, ice\, and dance\, and embrace the opportu
 nity to tap into your inner strength\, connect with like-minded individual
 s\, and experience the true essence of self-liberation. Discover a new sen
 se of purpose\, vitality\, and inner harmony\, guided by the loving energy
  of Charee and Daniel and the magic of this extraordinary Breathwork Ice B
 ath Dance Event.   All experience &amp\; no experience &amp\; all bodies
  welcomed.\n\nTier pricing $55\, $66\, $77\n\nPlease submit your selected 
 amount\n\n$66\n\nhttps://chareejanelle.as.me/? appointmentType=51251607\n\
 n$77 https://chareejanelle.as.me/?appointmentType=51251882\n\n&nbsp\;\n\n
 $55 https://chareejanelle.as.me/?appointmentType=51251872\n\n&nbsp\;\n\n&
 nbsp\;
CATEGORIES:DANCE,Workshops
LOCATION:Charee Home Sanctuary\, 1191 shiloh road\, morgantown pa\, Pennsyl
 vania\, 19543\, United States
GEO:40.178621;-75.917988
X-APPLE-STRUCTURED-LOCATION;VALUE=URI;X-ADDRESS=1191 shiloh road\, morganto
 wn pa\, Pennsylvania\, 19543\, United States;X-APPLE-RADIUS=100;X-TITLE=Ch
 aree Home Sanctuary:geo:40.178621,-75.917988
END:VEVENT
BEGIN:VTIMEZONE
TZID:America/New_York
X-LIC-LOCATION:America/New_York
BEGIN:DAYLIGHT
DTSTART:20230312T030000
TZOFFSETFROM:-0500
TZOFFSETTO:-0400
TZNAME:EDT
END:DAYLIGHT
END:VTIMEZONE
END:VCALENDAR