BEGIN:VCALENDAR
VERSION:2.0
PRODID:-//wp-events-plugin.com//7.2.3.1//EN
TZID:America/New_York
X-WR-TIMEZONE:America/New_York
BEGIN:VEVENT
UID:155@chareejanelle.com
DTSTART;TZID=America/New_York:20240622T170000
DTEND;TZID=America/New_York:20240622T213000
DTSTAMP:20240519T010519Z
URL:https://chareejanelle.com/events-list/glacial-rhythms-a-breath-of-danc
 e-ice-drumming/
SUMMARY:GLACIAL RHYTHMS -A Breath Of Dance\, Ice & Drumming
DESCRIPTION:Embrace a truly unique and transformative experience with our B
 reathwork + Ice Bath～ Dance + Drum event\n&nbsp\;\nThis private event is
  nestled amidst the beauty of nature\, Charee's sanctuary provides awakeni
 ng healing &amp\; life transformation\, supporting your journey of discove
 ring your authentic self &amp\; self mastery.\n&nbsp\;\nWe begin our pract
 ice of breathwork\, expertly guided by Breathworker Daniel. Through intent
 ional and conscious breathing\, you'll unlock your inner power\, releasing
  stress\, and connecting deeply with your present self. The breathwork ses
 sion will open your heart\, mind\, and spirit\, paving the way for a trans
 formative experience ahead.\n&nbsp\;\nAfter the invigorating breathwork se
 ssion\, you'll embrace the exhilarating ice bath\, an awakening encounter 
 with your inner strength. Daniel's compassionate guidance will support you
  as you step into the refreshing cold waters\, revitalizing your body and 
 mind. The ice bath experience serves as a powerful catalyst for resilience
 \, mental clarity\, and a profound connection to your own inner reservoir 
 of power.\n&nbsp\;\nAs you emerge from the ice bath\, the atmosphere trans
 forms into a vibrant dance floor\, awaiting the rhythmic beats and empower
 ing movements of Ecstatic Dance. Under the skillful direction &amp\; exper
 ienced guide\, Charee\, you'll let go of inhibitions\, allowing your body 
 to express itself freely and joyfully. The dance becomes a celebration of 
 your newfound vitality and an honoring of the divine feminine energy that 
 resides within you.\nWe will then gather around the fire and Floyd will le
 ad us into a Shamanic Drum Circle. Explore drumming techniques and traditi
 onal rhythms in the ancient art of African drumming. Together\, we'll harn
 ess the drum's vibrations to release\, elevate our energies\, and reach a 
 euphoric\, shamanic state. Join Floyd on a journey of self-discovery\, hea
 ling\, and unity as he invites you to connect with the spirit within. Let 
 the rhythms of the drum lead you towards empowerment and transformation\, 
 creating a harmonious and collective experience that transcends time and s
 pace.\n&nbsp\;\nJoin us on this remarkable journey of breath\, ice\, and d
 ance\, and embrace the opportunity to tap into your inner strength\, conne
 ct with like-minded individuals\, and experience the true essence of self-
 liberation. Discover a new sense of purpose\, vitality\, and inner harmony
 \, guided by the loving energy of Charee\, Daniel &amp\; Floyd and the mag
 ic of this extraordinary Breathwork Ice Bath\,  Dance &amp\; Drumming.  
 All experience &amp\;  all bodies welcomed.\nMore details &amp\; layout o
 f the evening  will be given once you are registered.\n  REGISTRATION\n&
 nbsp\;\n\n✨️Exact address given once registered ✨️\n( limited spac
 e )\n&nbsp\;\nhttps://chareejanelle.as.me/?appointmentType=51251607\n&nbsp
 \;\n\n&nbsp\;\n\n&nbsp\;\n\n&nbsp\;
ATTACH;FMTTYPE=image/jpeg:https://chareejanelle.com/wp-content/uploads/202
 4/05/IMG-20240518-WA0000.jpg
CATEGORIES:GUEST WORKSHOP,Special guest,Workshops
END:VEVENT
BEGIN:VTIMEZONE
TZID:America/New_York
X-LIC-LOCATION:America/New_York
BEGIN:DAYLIGHT
DTSTART:20240310T030000
TZOFFSETFROM:-0500
TZOFFSETTO:-0400
TZNAME:EDT
END:DAYLIGHT
END:VTIMEZONE
END:VCALENDAR