BEGIN:VCALENDAR
VERSION:2.0
PRODID:-//wp-events-plugin.com//7.2.3.1//EN
TZID:America/New_York
X-WR-TIMEZONE:America/New_York
BEGIN:VEVENT
UID:188@chareejanelle.com
DTSTART;TZID=America/New_York:20250105T110000
DTEND;TZID=America/New_York:20250105T141500
DTSTAMP:20241103T153134Z
URL:https://chareejanelle.com/events-list/glacial-rhtyms-a-breathplay-ice-
 dance/
SUMMARY:GLACIAL RHTYMS A BreathPlay - Ice & Dance
DESCRIPTION:Glacial Rhythms: A Breath of Ice and Dance\n\nA Breathplay + Ic
 e Bath～ Dance Event.\n\nThis private event is nestled in private residen
 ce in Berks County amidst the beauty of nature. Charee's sanctuary provide
 s awakening healing &amp\; life transformation\, supporting your journey o
 f discovering your authentic self &amp\; self mastery through the divine f
 eminine.\n\nWe begin our practice of breathwork\, expertly guided by Breat
 hworker &amp\; Powerful Healer Daniel. Through intentional and conscious b
 reathing\, you'll unlock your inner power\, release stress\, and connect d
 eeply with your present self. The breathwork will open your heart\, mind\,
  and spirit\, paving the way for a transformative experience ahead.\n\nAft
 er the invigorating breathwork session\, you'll embrace the exhilarating i
 ce bath\, an awakening encounter with your inner strength. Daniel's compas
 sionate guidance will support you as you step into the refreshing cold wat
 ers\, revitalizing your body and mind. The ice bath experience serves as a
  powerful catalyst for resilience\, mental clarity\, and a profound connec
 tion to your own inner reservoir of power.\n\nAs you emerge from the ice b
 ath\, the atmosphere transforms into a vibrant dance floor\, awaiting the 
 rhythmic beats and empowering movements of Ecstatic Dance. Under the skill
 ful direction &amp\; experienced guide\, Charee\, you'll let go of inhibit
 ions\, allowing your body to express itself freely and joyfully. The dance
  becomes a celebration of your newfound vitality and an honoring of the di
 vine feminine energy that resides within you. Join us on this remarkable j
 ourney of breath\, ice\, and dance\, and embrace the opportunity to tap in
 to your inner strength\, connect with like-minded individuals\, and experi
 ence the true essence of self-liberation. Discover a new sense of purpose\
 , vitality\, and inner harmony\, guided by the loving energy of Charee and
  Daniel and the magic of this extraordinary Breathwork Ice Bath Dance Even
 t. All experience &amp\; no experience &amp\; all bodies welcomed.\n\nSund
 ay\, January 5th\n\n11am- 2:30pm\n\nEarly Bird registration $88\n\nSliding
  scale options are available\, just ask.\n\n&nbsp\;\n\n&nbsp\;\n\nPlease s
 ubmit ful name &amp\; email via along with $ via vemno -\n\nat MiraculousE
 nterprises (Charee Janelle )\n\n&nbsp\;\n\n&nbsp\;\n\n&nbsp\;
ATTACH;FMTTYPE=image/jpeg:https://chareejanelle.com/wp-content/uploads/202
 4/10/Screenshot_20241020_111457_Facebook.jpg
CATEGORIES:GUEST WORKSHOP,Special guest
LOCATION:charee sacred sanctuary\, 1191 shiloh road\, morgantown pa\, PA\, 
 19543\, United States
GEO:32.295186;-95.287852
X-APPLE-STRUCTURED-LOCATION;VALUE=URI;X-ADDRESS=1191 shiloh road\, morganto
 wn pa\, PA\, 19543\, United States;X-APPLE-RADIUS=100;X-TITLE=charee sacre
 d sanctuary:geo:32.295186,-95.287852
END:VEVENT
BEGIN:VTIMEZONE
TZID:America/New_York
X-LIC-LOCATION:America/New_York
BEGIN:STANDARD
DTSTART:20241103T010000
TZOFFSETFROM:-0400
TZOFFSETTO:-0500
TZNAME:EST
END:STANDARD
END:VTIMEZONE
END:VCALENDAR