BEGIN:VCALENDAR
VERSION:2.0
PRODID:-//wp-events-plugin.com//7.2.3.1//EN
TZID:America/New_York
X-WR-TIMEZONE:America/New_York
BEGIN:VEVENT
UID:84@chareejanelle.com
DTSTART;TZID=America/New_York:20230802T190000
DTEND;TZID=America/New_York:20230802T210000
DTSTAMP:20230801T131248Z
URL:https://chareejanelle.com/events-list/full-moon-shamanic-drum-circle-f
 ire/
SUMMARY:Full Moon Shamanic Drum Circle & Fire
DESCRIPTION:Full Moon Shamanic Drum Circle &amp\; Fire Ceremony\n\nExperien
 ce the magic of shamanic drumming\, healing\, and soulful expression under
  the captivating Full Moon's glow around a fire 🌕🪘🔥\n\nDrum Circl
 e will be Led by Drum Facilitator\, Floyd Joynes from Symphonic Harmonics\
 n\nFire Cermony &amp\; Opening will be led by Charee Jamelle\, Divine Cond
 uit of Miraculous Transformations\n\nExplore drumming techniques and tradi
 tional rhythms in the ancient art of drumming. Together\, we'll harness th
 e drum's vibrations to release and elevate energies\, reaching a euphoric\
 , shamanic state. Our blend of structured drum expressions and spontaneous
  improv will unite us all\, becoming one with the drum.\n\nBring your drum
  or instrument and let your soul play freely as we create a sense of commu
 nity and healing expression. Embrace the transformative power of drumming 
 become one with the moment. Connected to source ✨✨✨\n\nLimited drums
  and percussion instruments will be provided but feel free to bring your o
 wn instrument.\n\n&nbsp\;\n\n\n\nAbout Floyd:\n\nMeet Floyd\, a multi-dime
 nsional musician\, sound healer\, and reiki master with a deep connection 
 to the world of drumming. Since 2016\, Floyd's journey with drumming has e
 volved\, and in 2020\, he embraced his calling as a circle facilitator.\n\
 nDrawing from his passion for music\, healing\, and drumming\, Floyd leads
  transformative drum circles and soulful sound healings that carry a shama
 nic essence. These experiences have a profound impact\, leaving participan
 ts feeling reconnected and restored.\n\nFloyd's fascination with the djemb
 e and African drumming unlocked a powerful pathway to self-healing and ene
 rgy transformation. In his circles\, he shares this ancient wisdom\, guidi
 ng others to connect with their inner spirit and unleash the power of self
 -healing. It’s both a passion and a sacred duty for him to serve the col
 lective\, uniting communities through the boundless power of the drum.\n\n
 Join Floyd on a journey of self-discovery\, healing\, and unity as he invi
 tes you to connect with the spirit within. Let the rhythms of the drum lea
 d you towards empowerment and transformation\, creating a harmonious and c
 ollective experience that transcends time and space. Embrace the restorati
 ve power of rhythm\, drumming and community.\n\nWebsite - www.symphonichar
 monics.com\n\nFacebook - https://www.facebook.com/floydjoynes/\n\nIG - htt
 ps://www.instagram.com/floydjoynes\n\n&nbsp\;\n\nONLINE REGISTRATION IS CL
 OSED BUT WE STILL HAVE A FEW SPOTS OPEN.\n\nIF YOU ARE PLANNING TO COME PL
 EASE REACH OUT TO CHAREE AT 610 463 4051\n\nAND SHE WILL GET YOU REGISTERE
 D
ATTACH;FMTTYPE=image/jpeg:https://chareejanelle.com/wp-content/uploads/202
 3/07/Screenshot_20230725_155758_Instagram-1.jpg
CATEGORIES:Sound,Workshops
LOCATION:Charee Home Sanctuary\, 1191 shiloh road\, morgantown pa\, Pennsyl
 vania\, 19543\, United States
GEO:40.178621;-75.917988
X-APPLE-STRUCTURED-LOCATION;VALUE=URI;X-ADDRESS=1191 shiloh road\, morganto
 wn pa\, Pennsylvania\, 19543\, United States;X-APPLE-RADIUS=100;X-TITLE=Ch
 aree Home Sanctuary:geo:40.178621,-75.917988
END:VEVENT
BEGIN:VTIMEZONE
TZID:America/New_York
X-LIC-LOCATION:America/New_York
BEGIN:DAYLIGHT
DTSTART:20230312T030000
TZOFFSETFROM:-0500
TZOFFSETTO:-0400
TZNAME:EDT
END:DAYLIGHT
END:VTIMEZONE
END:VCALENDAR