BEGIN:VCALENDAR
VERSION:2.0
PRODID:-//wp-events-plugin.com//7.2.3.1//EN
TZID:America/New_York
X-WR-TIMEZONE:America/New_York
BEGIN:VEVENT
UID:88@chareejanelle.com
DTSTART;TZID=America/New_York:20230930T173000
DTEND;TZID=America/New_York:20230930T190000
DTSTAMP:20230913T133824Z
URL:https://chareejanelle.com/events-list/full-moon-kirtan-friends/
SUMMARY:FULL MOON KIRTAN & FRIENDS
DESCRIPTION:\nThe music and mantra of kirtan 🎶🎶✨️fills my heart a
 nd makes every cell within me dance. The sweetness of devotion and the pow
 er of sound journeys a soulful ride into the heart of bliss\, and I invite
  you to join us.\n\nYou are invited to join us for a LIVE Kirtan event &am
 p\; open jam on Saturday Sept 30th\, 5:30pm\n\nMusic is a amazing force in
  bringing people together and Kirtan is a devotional practice of yoga that
  uses music to connect us to our chosen form of the divine. In India they 
 believe that there are is One God\, but many names\, and by chanting we no
 t only celebrate and create unity\, but we also lift up and honour our dif
 ferences.\n\nThis will be a powerful evening of connection and community.\
 nAll ages &amp\; first timers are welcome.\n\nI am so grateful to welcome 
 Charles Dayananada Das &amp\; his beautiful wife Rachel\, along with David
  Hall\, Alan Kuhl &amp\; Abby Holbach to share this joyful uplifting Kirta
 n practicewith the community. This expansive &amp\; deeply transformationa
 l practice will have you feeling the vibes for days and week to follow.\nC
 ome experience this beautiful yummy soulful practice &amp\; connect with l
 ikeminded kindred souls.\n\nThis is being held in Berks County\, Morgantow
 n PA\, address will be given at time of registration.\n\nSliding scale\, d
 onation based.\n\nTo register\, select your donation amount and send via v
 emno @MiraculousEnterprises\n\n$22\, $25\, $33\, $35\n\n&nbsp\;\n\n✨️
 This will be experienced outside nestled in the woods around a fire.\n\n&n
 bsp\;
ATTACH;FMTTYPE=image/jpeg:https://chareejanelle.com/wp-content/uploads/202
 3/09/Screenshot_20230913_091045_Canva-1.jpg
CATEGORIES:Sound,Workshops
LOCATION:Charee Home Shala\, 1191 shiloh road\, morgantown pa\, Pennsylvani
 a\, 19543\, United States
GEO:40.178621;-75.917988
X-APPLE-STRUCTURED-LOCATION;VALUE=URI;X-ADDRESS=1191 shiloh road\, morganto
 wn pa\, Pennsylvania\, 19543\, United States;X-APPLE-RADIUS=100;X-TITLE=Ch
 aree Home Shala:geo:40.178621,-75.917988
END:VEVENT
BEGIN:VTIMEZONE
TZID:America/New_York
X-LIC-LOCATION:America/New_York
BEGIN:DAYLIGHT
DTSTART:20230312T030000
TZOFFSETFROM:-0500
TZOFFSETTO:-0400
TZNAME:EDT
END:DAYLIGHT
END:VTIMEZONE
END:VCALENDAR