BEGIN:VCALENDAR
VERSION:2.0
PRODID:-//wp-events-plugin.com//7.2.3.1//EN
TZID:America/New_York
X-WR-TIMEZONE:America/New_York
BEGIN:VEVENT
UID:145@chareejanelle.com
DTSTART;TZID=America/New_York:20240414T103000
DTEND;TZID=America/New_York:20240414T103000
DTSTAMP:20240407T191559Z
URL:https://chareejanelle.com/events-list/forevermore-breathwork-sound/
SUMMARY:FOREVERMORE/ Breathwork & Sound
DESCRIPTION:FOREVERMORE/Breathwork &amp\; Sound \n\nConsciousness is evolv
 ing fast like the speed of light.\nEmbark on a transformational experience
  that will enable you to explore within\, open your heart &amp\; safely al
 ter your state of consciousness for healing. This 2 hour session with Ari 
 &amp\; Charee\, will help you overcome limiting beliefs\, deeply detoxify\
 , illumiate truth \, unravel patterns &amp\; safely guide you back home.\n
 \nJoin Charee Janelle\, Divine Conduit Of Miracles Transformations &amp\; 
 Ari Barkan\, founder of Center City Breathe\, Philadelphias premier medita
 tion &amp\; breathwork center to embark on a sacred healing journey of Bre
 athwork &amp\; Sound Healing.\n\nCombining these two healing modalities in
 to one experience is twice as powerful for resetting the nervous system\, 
 releasing repressed emotions\, detoxifying the mind and body\, boosting th
 e immune system\, lowering oxidative stress and dramatically increasing ox
 ygen levels in the blood\, to name just a few of the benefits!\n\nBreathwo
 rk and Sound Healing are ancient forms of natural medicine that will chang
 e your life\, as they have for us. Ari creates a powerful playlist every t
 ime to expand your breathwork journey\; Charee guides you deeper into the 
 meditative state with sound healing instruments that correct compromised o
 r blocked vibrations in the mind and body and restore resonance to the cel
 ls find deep rest into the vibrations\, frequencies &amp\; energy of the s
 ound bath. Come as you are\, sink into the space of Timelessness. Foreverm
 ore.\n\nLeave feeling so much clarity\, calm\, peace and a renewed version
  of yourself.\n\nThese modalities are great for:\n\nRaising your vibration
 al frequency\nOpening up and clearing stagnant energy\nClear repressed and
  suppressed emotions that are stored in the body\nHelps with depression an
 d anxiety\nImproves sleep\nDecreases physical pain\nHeals and integrates t
 raumas\nOpens doorways within self\nClears negative belief systems\nPast L
 ife Recall\nOpening and awakening dormant superpowers within\n\nNo prior e
 xperience is required! Join us. Transformation happens in the now time....
 .whether this is the first time or you have a regular breathwork practice\
 , you're in a safe and supported space with experienced practicioners\, gu
 ides &amp\; Facilitators.\n\nWe welcome you.\nAll of you.\n\nRegistration\
 n\n•Early registration \n\n2 tickets- $80 (valid until 4/8)\n\nhttps://c
 hareejanelle.as.me/?appointmentType=61487552\n\n&nbsp\;\n\nAfter 4/8 - tie
 red pricing\n\n$44\n\nhttps://chareejanelle.as.me/?appointmentType=6145433
 0\n\n&nbsp\;\n\n$53\n\nhttps://chareejanelle.as.me/?appointmentType=614544
 50\n\n&nbsp\;\n\n$62\n\nhttps://chareejanelle.as.me/?appointmentType=61454
 542\n\nWe will not turn you away due to finances\n\nContact Charee info@ch
 areejanelle.com for assistance.\n\n✨️✨️✨️✨️✨️✨️✨
 ️✨️✨️✨️✨️✨️\n\nIf you’re looking for clarity or di
 rection in your life\, we invite you to set an intention before coming to 
 this workshop. By writing it down beforehand helps further plant the seed 
 into both your conscious and subconscious mind – allowing them to natura
 lly manifest.\n\nquestions please reach out info@chareejanelle.com\ninfo@c
 cbphilly.com\n\nfor more upcoming offerings\, transformational retreats\, 
 private mentorship\, &amp\; opportunities to connect with likeminded commu
 nity www.chareejanelle.com\nsign up to receive newsletter 🦋🌸
ATTACH;FMTTYPE=image/jpeg:https://chareejanelle.com/wp-content/uploads/202
 4/04/Screenshot_20240404_212147_Chrome.jpg
LOCATION:AWAKEN Center for Human Evolution\, Plymouth Meeting mall \, Plymo
 uth Meeting \, Pa \, United States
GEO:40.102332;-75.274347
X-APPLE-STRUCTURED-LOCATION;VALUE=URI;X-ADDRESS=Plymouth Meeting mall \, Pl
 ymouth Meeting \, Pa \, United States;X-APPLE-RADIUS=100;X-TITLE=AWAKEN Ce
 nter for Human Evolution:geo:40.102332,-75.274347
END:VEVENT
BEGIN:VTIMEZONE
TZID:America/New_York
X-LIC-LOCATION:America/New_York
BEGIN:DAYLIGHT
DTSTART:20240310T030000
TZOFFSETFROM:-0500
TZOFFSETTO:-0400
TZNAME:EDT
END:DAYLIGHT
END:VTIMEZONE
END:VCALENDAR