BEGIN:VCALENDAR
VERSION:2.0
PRODID:-//wp-events-plugin.com//7.2.3.1//EN
TZID:America/New_York
X-WR-TIMEZONE:America/New_York
BEGIN:VEVENT
UID:301@chareejanelle.com
DTSTART;TZID=America/New_York:20251130T100000
DTEND;TZID=America/New_York:20251130T153000
DTSTAMP:20251122T174851Z
URL:https://chareejanelle.com/events-list/flow-swap-fire/
SUMMARY:FLOW - SWAP - FIRE
DESCRIPTION:&nbsp\;\n\n\n\nPOP-UP COMMUNITY GATHERING\nSunday\, November 30
 th\n\n✨ Come for one or come for all ✨\n\n10 AM — Qi Gong\nwith the 
 beautiful teacher\, guide\, and practitioner Monalisa\n\n12:30 PM — Clot
 hing Swap &amp\; Style Exchange\nShare\, trade\, and refresh your wardrobe
  consciously.\n\n2 PM — Fire Ritual &amp\; Open Jam\nGather around the f
 lame to release\, celebrate\, and create in community.\n\n\n\n&nbsp\;\n\n&
 nbsp\;\nLocation:\nSchool Of Miracles/Sanctuary For Transformation\, Love 
 &amp\; Rememberance\n1191 shiloh road Morgantown PA 19543\n&nbsp\;\n\n&nbs
 p\;\n\n&nbsp\;\n\n&nbsp\;\n\n&nbsp\;
ATTACH;FMTTYPE=image/jpeg:https://chareejanelle.com/wp-content/uploads/202
 5/11/FLOW-SWAP-FIRE_QR.jpg
CATEGORIES:Qigong,Special guest,Sunday
LOCATION:School of Miracles\, 1191 shiloh road\, Morgantown \, Pennsylvania
 \, United States
GEO:40.178288;-75.917456
X-APPLE-STRUCTURED-LOCATION;VALUE=URI;X-ADDRESS=1191 shiloh road\, Morganto
 wn \, Pennsylvania\, United States;X-APPLE-RADIUS=100;X-TITLE=School of Mi
 racles:geo:40.178288,-75.917456
END:VEVENT
BEGIN:VTIMEZONE
TZID:America/New_York
X-LIC-LOCATION:America/New_York
BEGIN:STANDARD
DTSTART:20251102T010000
TZOFFSETFROM:-0400
TZOFFSETTO:-0500
TZNAME:EST
END:STANDARD
END:VTIMEZONE
END:VCALENDAR