BEGIN:VCALENDAR
VERSION:2.0
PRODID:-//wp-events-plugin.com//7.2.3.1//EN
TZID:America/New_York
X-WR-TIMEZONE:America/New_York
BEGIN:VEVENT
UID:249@chareejanelle.com
DTSTART;TZID=America/New_York:20250919T190000
DTEND;TZID=America/New_York:20250919T203000
DTSTAMP:20250827T035106Z
URL:https://chareejanelle.com/events-list/fireside-crystal-skulls-meditati
 on/
SUMMARY:Fireside Crystal Skulls Meditation
DESCRIPTION:                            FIRESIDE \n    CRYS
 TAL SKULL MEDITATION \n                with BobbyLight \n\nIn th
 is event you’ll participate in a group crystal skull meditation\, leadin
 g into silent meditation within the circle of unconditional love that has 
 been created. You will have the opportunity to receive reiki during the si
 lent meditation. Through meditation we can access the Ancient Wisdom store
 d within a Skull. Their power increases when they are brought together in 
 a group setting. Crystal Skulls can be used as a communication tool to con
 nect with other dimensions and timelines. Ancient civilizations such as Ma
 yan\, Atlantean and others used these tools to tap into higher realms of c
 onsciousness. If you're feeling called\, please come join us. You are invi
 ted to bring your personal crystals to be placed within the skull grid for
  activation.\n\n\n\n\n\nDate: Friday September 19th\nTime: 7pm\nInvestment
 : $33\n\n\n\n\n\n\n\n
ATTACH;FMTTYPE=image/jpeg:https://chareejanelle.com/wp-content/uploads/202
 5/08/Screenshot_20250826_061611_Gmail.jpg
CATEGORIES:GUEST WORKSHOP,Special guest,Workshops
LOCATION:charees Sacred Sanctuary\, 123 miracle way\, morgantown pa\, Pa\, 
 19543\, United States
GEO:40.155285;-75.889941
X-APPLE-STRUCTURED-LOCATION;VALUE=URI;X-ADDRESS=123 miracle way\, morgantow
 n pa\, Pa\, 19543\, United States;X-APPLE-RADIUS=100;X-TITLE=charees Sacre
 d Sanctuary:geo:40.155285,-75.889941
END:VEVENT
BEGIN:VTIMEZONE
TZID:America/New_York
X-LIC-LOCATION:America/New_York
BEGIN:DAYLIGHT
DTSTART:20250309T030000
TZOFFSETFROM:-0500
TZOFFSETTO:-0400
TZNAME:EDT
END:DAYLIGHT
END:VTIMEZONE
END:VCALENDAR