BEGIN:VCALENDAR
VERSION:2.0
PRODID:-//wp-events-plugin.com//7.2.3.1//EN
TZID:America/New_York
X-WR-TIMEZONE:America/New_York
BEGIN:VEVENT
UID:67@chareejanelle.com
DTSTART;TZID=America/New_York:20250617T093000
DTEND;TZID=America/New_York:20250619T143000
DTSTAMP:20250426T151318Z
URL:https://chareejanelle.com/events-list/empowerment-tween-goddess-summer
 -camp/
SUMMARY:Empowerment Goddess Summer Camp
DESCRIPTION:\n\nShine bright this summer with Goddess Empowerment Summer Ca
 mp Program with Charee Janelle.\n\nEmpowering Girls through Movement\, Cre
 ativity &amp\; Connection and honoring the Goddess within.\n\nCamp is held
  on -Tues - Wed-Thur-  930am-2pm for Girls age 7-14 and being held at Cha
 rees Home Sanctuary.\n\nEach day we will practice yoga\, breathing\, groun
 ding\, earthing\, mindfulness\,  connecting to our Goddess selves and wit
 h one another through creative art\, expression\, sound\, and heartcentere
 d practices &amp\; projects\n\nJoin us for\;\n\n🎨Creativity:\nart\, pai
 nting\, jewelry making\, singing\, creative expression\n\n💃Movement:\ny
 oga\, dance\, freeform movement\, aerial yoga\,\n\n📖Mindfulness:\nbreat
 h practices\, journaling\, visualization\, nature exploration\n\n🫶Conne
 ction:\npartner play\, building healthy relationships\, community\, kindne
 ss\, friendship\, gratitude\, and special guest\n\nGIrls must be age 7 bef
 ore the first day of camp.\n\nCost $235 for the 3 day  camp week\n\nPayme
 nt is due in full at the time of registration unless other arrangements ha
 ve been made with Charee\n\nRegister and pay in full by 6/9 $222\n\nSpots 
 are limited\n\n&nbsp\;\n\nDATES FOR GODDESS CAMP\n\n6/16\, 6/17\, 6/18\n\n
 7/22\, 7/23\, 7/24\n\n&nbsp\;\n\nWaiver must be signed at day 1 of camp.\n
 \n&nbsp\;\n\nPlease submit payment via check\, cash\, or vemno &amp\; incl
 ude your name\, childs name\, email &amp\; phone number\n\nVemno @miraculo
 usenterprises\n\n&nbsp\;\n\nContact charee at 610 463 4051 or info@chareej
 anelle.com for questions\n\n&nbsp\;\n\nBefore &amp\; after camp hours are 
 available for an additional fee- but will fill quick.\n\n&nbsp\;\n\n&nbsp\
 ;\n\n"Our young goddesses are the future. Love them\, guide them\, nurture
  their light\, and empower them to lead the way."\n\n&nbsp\;\n\n&nbsp\;\n\
 n&nbsp\;\n\n&nbsp\;\n\n&nbsp\;
ATTACH;FMTTYPE=image/jpeg:https://chareejanelle.com/wp-content/uploads/202
 3/05/Screenshot_20250405_105625_Gallery.jpg
CATEGORIES:DANCE,Kids,Kids/family
LOCATION:charees Sacred Sanctuary\, 123 miracle way\, morgantown pa\, Pa\, 
 19543\, United States
GEO:40.155285;-75.889941
X-APPLE-STRUCTURED-LOCATION;VALUE=URI;X-ADDRESS=123 miracle way\, morgantow
 n pa\, Pa\, 19543\, United States;X-APPLE-RADIUS=100;X-TITLE=charees Sacre
 d Sanctuary:geo:40.155285,-75.889941
END:VEVENT
BEGIN:VTIMEZONE
TZID:America/New_York
X-LIC-LOCATION:America/New_York
BEGIN:DAYLIGHT
DTSTART:20250309T030000
TZOFFSETFROM:-0500
TZOFFSETTO:-0400
TZNAME:EDT
END:DAYLIGHT
END:VTIMEZONE
END:VCALENDAR