BEGIN:VCALENDAR
VERSION:2.0
PRODID:-//wp-events-plugin.com//7.2.3.1//EN
TZID:America/New_York
X-WR-TIMEZONE:America/New_York
BEGIN:VEVENT
UID:228@chareejanelle.com
DTSTART;TZID=America/New_York:20250722T094500
DTEND;TZID=America/New_York:20250724T143000
DTSTAMP:20250624T171203Z
URL:https://chareejanelle.com/events-list/empowerment-tween-goddess-summer
 -camp-2/
SUMMARY:Empowerment Tween/Teen Goddess Summer Camp
DESCRIPTION:&nbsp\;\n\nShine bright this summer with Tween/Teen  Goddess E
 mpowerment Summer Camp with heart centered\, spirit led\, soul preneur\, Y
 ogi\,  mentor\, healer  &amp\; momma - Charee Janelle.\n\nEmpowering Gir
 ls through Heart Centered Themes through Self Love\, Authenticity\,  Crea
 tivity\, Connection..\n\na gentle empowering immersion for young girls re
 ady to remember who they are.\n\n&nbsp\;\n\nHosted in my private home sanc
 tuary\, this is more than a camp\, it's safe &amp\; sacred space of connec
 tion for 8–12-year-old girls \,  guided by an embodied woman\, healer\,
  and momma. Over three magical days\, your daughter will be nurtured\, see
 n\, and invited into sacred sisterhood.\n\n&nbsp\;\n\nTogether we will exp
 lore:\n\n🌸 Body wisdom &amp\; cycles\n\n🌸 Creative expression (movem
 ent\, art\, voice)\n\n🌸 Earth connection &amp\; elemental play\n\n🌸 
 Nervous system care &amp\; emotional literacy\n\n🌸 Rituals to honor the
  emerging feminine\n\n🌸 Laughter\, play\, and wild freedom\n\n&nbsp\;\n
 \nThis is more than a camp. It’s a rite of passage in disguise. A safe c
 ontainer where your daughter can feel the power of being in her body\, in 
 her truth\, and in sacred community.\n\n&nbsp\;\n\nJULY SESSION\;\n\n📅 
 Wednesday -Thursday-Friday\n\n🕚9:45am-2:30pm ( can drop off as early as
  9:30am)\n\n🌹Girls age 7-13\n\n🌻Camp takes place at Charees Home San
 ctuary\, nestled in the woods\, located in Morgantown PA\n\nEach day we pr
 actice asana\, pranayama\,  dance\, mindfulness &amp\; connecting to our 
 Goddess selves &amp\; honoring our innate gifts &amp\; intuition. Through 
 teamwork\, play\, creativity\, soulful expression\, sound\, nature &amp\; 
 intentional activities\, these goddesses are  cultivating greater awarene
 ss\, higher &amp\;  deeper love\, sisterhood &amp\; loving kindness for a
 ll living beings.\n\nJoin us for\;\n\n🎨Creativity:\nart\, painting\, je
 welry making\, singing\, creative expression &amp\; exploration\n\n💃Mov
 ement:\nyoga\, dance\, aerial yoga\, acro\,\n\n📖Mindfulness:\nbreath pr
 actices\, journaling\, visualization\, nature exploration\n\n🫶Connectio
 n:\npartner play\, building healthy relationships\, community\, kindness\,
  friendship\, gratitude\, and possibility for special guest\n\n&nbsp\;\n\n
 🌱Nature\;\n\nExplore fun in nature\, grounding tools &amp\; much more\n
 \n&nbsp\;\n\n&nbsp\;\n\n&nbsp\;\n\nINVESTMENT\n\nCost $235 for the 3 day c
 amp week session and over 15 hours of sacred connection &amp\; soulful exp
 ression\n\nDeposit of $75 is required to reserve your Goddess &amp\; can b
 e made by clicking link below "register here."\n\nPayment balance due in f
 ull at the time of camp unless other arrangements have been made with Char
 ee\n\nSpots are limited &amp\; first come first serve\n\nWaiver must be si
 gned at day 1 of camp.\n\nOlder girls are invited &amp\; encouraged to be 
 a role model &amp\; big sister to the younger girls.\n\n&nbsp\;\n\nPhones 
 will be handed in at beginof camp &amp\; returned at the end.   Everyone
  will agree to use loving words\, kindness &amp\; exclusivity.\n\nNo drama
 \, gossip or other behaviors will be permitted or tolerated.\n\n&nbsp\;\n\
 nThe cocreative space is quite transformational\, and to be honest the god
 desses never want to leave.\n\nIt would be honored to have your girl /Twee
 n join this magical &amp\; empowering space.\n\n&nbsp\;\n\nNo one will be 
 turned away for funds\, so if that is something that you request\,  pleas
 e reach out to me privately for sliding scale option.\n\n&nbsp\;\n\n    
                      Camp Weeks\n\n                  
            June Session \n\n6 /16\, 6/17\, 6/18\n\n           
                   July Session\n\n7/22\, 7/23\,7/24\n\n&nbsp\;\n\
 nPlease reserve your Goddess spot by making a deposit ( "register" button 
 below) &amp\; remaining balance can be made via payment cashapp\, vemno\, 
 cash prior to start date of camp unless otherwise arranged with Charee.\n\
 n&nbsp\;\n\nVemno: @MiraculousEnterprises\n\nCashapp: $chareejanelle808\n\
 n&nbsp\;\n\nPost camp hours are available until 4:30pm on Wednesday &amp\;
  Thursday for an additional cost.   Once your deposit is received you'll
  receive an electronic form to complete for your goddess!!\n\n&nbsp\;\n\n&
 nbsp\;\n\n
ATTACH;FMTTYPE=image/jpeg:https://chareejanelle.com/wp-content/uploads/202
 5/04/Screenshot_20250620_070218_Chrome.jpg
CATEGORIES:DANCE,Kids,Kids/family
LOCATION:charees Sacred Sanctuary\, 123 miracle way\, morgantown pa\, Pa\, 
 19543\, United States
GEO:40.155285;-75.889941
X-APPLE-STRUCTURED-LOCATION;VALUE=URI;X-ADDRESS=123 miracle way\, morgantow
 n pa\, Pa\, 19543\, United States;X-APPLE-RADIUS=100;X-TITLE=charees Sacre
 d Sanctuary:geo:40.155285,-75.889941
END:VEVENT
BEGIN:VTIMEZONE
TZID:America/New_York
X-LIC-LOCATION:America/New_York
BEGIN:DAYLIGHT
DTSTART:20250309T030000
TZOFFSETFROM:-0500
TZOFFSETTO:-0400
TZNAME:EDT
END:DAYLIGHT
END:VTIMEZONE
END:VCALENDAR