BEGIN:VCALENDAR
VERSION:2.0
PRODID:-//wp-events-plugin.com//7.2.3.1//EN
TZID:America/New_York
X-WR-TIMEZONE:America/New_York
BEGIN:VEVENT
UID:166@chareejanelle.com
DTSTART;TZID=America/New_York:20240728T140000
DTEND;TZID=America/New_York:20240728T150000
DTSTAMP:20240720T214413Z
URL:https://chareejanelle.com/events-list/empowerment-transformational-sed
 ona-retreat-the-art-of-embodiment-through-divine-feminine-divine-masculine
 /
SUMMARY:Empowerment & Transformational Sedona Retreat /The Art of Embodimen
 t Through Divine Feminine  & Divine Masculine
DESCRIPTION:THE ART OF EMBODIMENT THROUGH DIVINE FEMININE &amp\;  DIVINE M
 ASCULINE\nSEDONA RETREAT\n                      with Charee  &
 amp\; Robin\n9/23/24 -9/26/24\n&nbsp\;\n\nTHE ART OF EMBODIMENT OF DIVINE 
 FEMININE &amp\; DIVINE MASCULINE\n                 SEDONA &amp\; 
 VORTICIES VISIT W/ Charee &amp\; Robin\n&nbsp\;\n\n&nbsp\;\n\nDATES: 9/23 
 -9/26\n\nINVESTMENT : $1\,111.00\n\n(deposit required $444)\n\nEARLY REGIS
 TRATION &amp\; PAY IN FULL :                              
             $995\n\nBRING A FRIEND &amp\; SAVE $$$$\n\n&nbsp\;\n\n&n
 bsp\;\n\n&nbsp\;\n\n&nbsp\;\n\nINCLUDES:\n\n&nbsp\;\n\n&nbsp\;\n\nSacred R
 elationship to all things and within \, Balance of Divine Feminine &amp\; 
 Divine Masculine\n\nUnderstanding Light &amp\; Dark\n\nShamanic Integrated
  Breathwork\n\nSpecial Vortex &amp\; visit to hidden gems that no one know
 s about\n\nYoga Movement Dance\n\nEnergy\, Sound &amp\; Vibrational Healin
 g\n\nCouncil circle\n\nPlay practice /Circle\n\nLearn how to do Land clear
 ing &amp\; water blessing\n\nMedicine Wheel /Labyrinth /Polar Plunge\n\n1 
 breakfast /1 dinner\n\nThank you gift and retreat pamphlet\n\nCommunity &a
 mp\; connection with like minded kindred souls\n\nEmpowerment &amp\; Trans
 formational Experiences\n\n&nbsp\;\n\nDOES NOT INCLUDE\nTransportation\nFl
 ight\nLodging\nSpending money /additional activities\n\n•We will create 
 a private online community space for all guests to connect and collaborate
  on lodging\, transportation etc once deposit is received and attendance u
 s confirmed .\n\n zoom link to join one retreat zoom info meeting on July
  28th\, 2pm ⏬️⏬️⏬️\n&nbsp\;\nhttps://us02web.zoom.us/j/8743106
 6046?pwd=FKvDmWHNAAi4bMKjl3atG951KM5WD1.1\n&nbsp\;\nMeeting ID: 874 3106 6
 046\nPasscode: 700305\n&nbsp\;\n\n&nbsp\;\n\n&nbsp\;\n\n---\n\n&nbsp\;
ATTACH;FMTTYPE=image/jpeg:https://chareejanelle.com/wp-content/uploads/202
 4/07/Screenshot_20240719_075925_Facebook.jpg
CATEGORIES:Retreats,Special guest,Workshops
END:VEVENT
BEGIN:VTIMEZONE
TZID:America/New_York
X-LIC-LOCATION:America/New_York
BEGIN:DAYLIGHT
DTSTART:20240310T030000
TZOFFSETFROM:-0500
TZOFFSETTO:-0400
TZNAME:EDT
END:DAYLIGHT
END:VTIMEZONE
END:VCALENDAR