BEGIN:VCALENDAR
VERSION:2.0
PRODID:-//wp-events-plugin.com//7.2.3.1//EN
TZID:America/New_York
X-WR-TIMEZONE:America/New_York
BEGIN:VEVENT
UID:284@chareejanelle.com
DTSTART;TZID=America/New_York:20251101T120000
DTEND;TZID=America/New_York:20251101T153000
DTSTAMP:20251014T120307Z
URL:https://chareejanelle.com/events-list/embracing-your-shadow/
SUMMARY:Embracing Your Shadow w/Anita & Charee
DESCRIPTION:\n\n&nbsp\;\n\nEmbracing Your Shadow  \n\n \n\n \n\nThrough
  somatic activation\, Reichian orgonomy  breathwork\, and the healing res
 onance of the gong\, you’ll release patterned tension\, awaken your life
  force\, and meet the hidden parts of yourself with compassion.ThIs deep c
 ontainer is an initiation into wholeness where you will  learn to recogni
 ze where your body holds emotion\, reclaim your natural breath\, call back
  your power and feel what it means to be fully alive again. \n\n \n\n E
 mbrace Your Shadow:  \n\nA 3.5-Hour Somatic Immersion \n\nJoin Charee J
 anelle and Anita for a deeply transformative journey into your emotional b
 ody. \n\nThrough somatic activation\, Reichian orgonomy breathwork\, and 
 the healing resonance of the gong\, you’ll release patterned tension\, a
 waken your life force\, and meet the hidden parts of yourself with compass
 ion. \n\n \n\nThis deep container is an initiation into wholeness where 
 you will learn to recognize where your body holds emotion\, reclaim your n
 atural breath\, call back your power and feel what it means to be fully al
 ive again. \n\n \n\n \n\nExperience includes: \n\n \n\n✨ Somatic gr
 ounding &amp\; tapping to awaken body awareness (with Charee) \n\n \n\n
 🔥 Reichian  orgonomy breathwork to dissolve muscular &amp\; emotional 
 armor (with Anita) \n\n \n\n🔔 Gong sound journey for deep integration
  and nervous system recalibration \n\n🥘Closing circle with Healthy bit
 es &amp\; nourishment  \n\n \n\n \n\nInvestment: $222  \n\nBring: yo
 ga mat\, blanket\, water\, journal\, dress comfortable &amp\; have an open
  heart &amp\; be willing to do the work  \n\n \n\nRegistration is requi
 red to ensure your spot. \n\n&nbsp\;\n\n\n\n&nbsp\;\n\nQuestions  or nee
 d help with registration\n\nplease reach out info@chareejanelle.com\n\nOr\
 n\nInfo@tantrawisdom.com
ATTACH;FMTTYPE=image/jpeg:https://chareejanelle.com/wp-content/uploads/202
 5/10/Embrace-Your-Shadow-scaled.jpg
LOCATION:Unity Barn Doylestown PA\, 4000 Saw Mill Rd\,\, Doylestown\, Penns
 ylvania\, 18902\, United States
GEO:40.342856;-75.129249
X-APPLE-STRUCTURED-LOCATION;VALUE=URI;X-ADDRESS=4000 Saw Mill Rd\,\, Doyles
 town\, Pennsylvania\, 18902\, United States;X-APPLE-RADIUS=100;X-TITLE=Uni
 ty Barn Doylestown PA:geo:40.342856,-75.129249
END:VEVENT
BEGIN:VTIMEZONE
TZID:America/New_York
X-LIC-LOCATION:America/New_York
BEGIN:DAYLIGHT
DTSTART:20250309T030000
TZOFFSETFROM:-0500
TZOFFSETTO:-0400
TZNAME:EDT
END:DAYLIGHT
END:VTIMEZONE
END:VCALENDAR