BEGIN:VCALENDAR
VERSION:2.0
PRODID:-//wp-events-plugin.com//7.2.3.1//EN
TZID:America/New_York
X-WR-TIMEZONE:America/New_York
BEGIN:VEVENT
UID:168@chareejanelle.com
DTSTART;TZID=America/New_York:20240808T000000
DTEND;TZID=America/New_York:20240808T000000
DTSTAMP:20240728T102115Z
URL:https://chareejanelle.com/events-list/embodied-multifaceted-woman/
SUMMARY:Embodied Multifaceted Woman
DESCRIPTION:&nbsp\;\n\n\n\n&nbsp\;\nEmbodied Multifaceted Woman \nWelcome
   Multifaceted Embodiment Women\, (MEW)\n               GROUP PRO
 GRAM FOR                                      WOMAN\n\n
 Via zoom\n\n&nbsp\;\nThe group intensive where you will learn to embody al
 l different layers of your feminine and come into the true power of your g
 ifts as an embodied  woman force  in this world.\n&nbsp\;\nThis is for y
 ou if you are:\n&nbsp\;\n\nStruggling to hold boundaries with people in yo
 ur life yet  still be soft &amp\; surrendered\nFeeling "out of place" in 
 this life\, in this world\nFeeling disconnected or afraid of or uncertain 
 of your power\nTired of reacting from your emotions with the people you lo
 ve?\nDisliking your body and feeling shame of our sexuality?\nFeeling ange
 r or passive aggressive with men in your life.\n&nbsp\;\nYou are ready to 
 learn:\n&nbsp\;\nHow to stand in your feminine power - soft\, but with bou
 ndaries\nTo recognise your unique gifts - from your heart\, energy\, and s
 ensuality\nTo understand your power as the feminine mirror in people's liv
 es and how to hold this power\, even when it feels hard\nTo be the multi-f
 aceted\, powerful\, wild\, unbound\, emotional\, dark &amp\; light\, uniqu
 ely beautiful self that you are with no shame\nTo express sensuality in a 
 healed\,  wholesome &amp\; empowered way\n&nbsp\;\n\n&nbsp\;\nWe begin Au
 gust 15th and work together for 6 weeks!\n                     
              $555 \n\n( 6 payments of  $92.50 )\n\n&nbsp\;\n\n&nbsp
 \;\n\n&nbsp\;\n\n&nbsp\;\n\n&nbsp\;
ATTACH;FMTTYPE=image/jpeg:https://chareejanelle.com/wp-content/uploads/202
 4/07/Screenshot_20240728_061838_Instagram.jpg
CATEGORIES:Relationship
END:VEVENT
BEGIN:VTIMEZONE
TZID:America/New_York
X-LIC-LOCATION:America/New_York
BEGIN:DAYLIGHT
DTSTART:20240310T030000
TZOFFSETFROM:-0500
TZOFFSETTO:-0400
TZNAME:EDT
END:DAYLIGHT
END:VTIMEZONE
END:VCALENDAR