BEGIN:VCALENDAR
VERSION:2.0
PRODID:-//wp-events-plugin.com//7.2.3.1//EN
TZID:America/New_York
X-WR-TIMEZONE:America/New_York
BEGIN:VEVENT
UID:93@chareejanelle.com
DTSTART;TZID=America/New_York:20231105T110000
DTEND;TZID=America/New_York:20231105T133000
DTSTAMP:20231026T132129Z
URL:https://chareejanelle.com/events-list/embodied-expression-sunday-editi
 on-2/
SUMMARY:Embodied Expression/Sunday edition
DESCRIPTION:\n\nhttps://www.mixily.com/event/6232333525823037257?fbclid=IwA
 R3Bw9PHo55dJ1cxe5PX_hdVmmHwG0dXd8yOsuzOBFsx5cbMGATLCuJTX_4
ATTACH;FMTTYPE=image/jpeg:https://chareejanelle.com/wp-content/uploads/202
 3/10/Screenshot_20231022_210555_Facebook.jpg
CATEGORIES:DANCE,Sound,Workshops,Yoga
LOCATION:healing energies chiropractic\, 463 west ridge Pike \, Royersford 
 \, Pa \, 19468\, United States
GEO:40.233048;-75.527298
X-APPLE-STRUCTURED-LOCATION;VALUE=URI;X-ADDRESS=463 west ridge Pike \, Roye
 rsford \, Pa \, 19468\, United States;X-APPLE-RADIUS=100;X-TITLE=healing e
 nergies chiropractic:geo:40.233048,-75.527298
END:VEVENT
BEGIN:VTIMEZONE
TZID:America/New_York
X-LIC-LOCATION:America/New_York
BEGIN:STANDARD
DTSTART:20231105T010000
TZOFFSETFROM:-0400
TZOFFSETTO:-0500
TZNAME:EST
END:STANDARD
END:VTIMEZONE
END:VCALENDAR