BEGIN:VCALENDAR
VERSION:2.0
PRODID:-//wp-events-plugin.com//7.2.3.1//EN
TZID:America/New_York
X-WR-TIMEZONE:America/New_York
BEGIN:VEVENT
UID:192@chareejanelle.com
DTSTART;TZID=America/New_York:20241124T110000
DTEND;TZID=America/New_York:20241124T140000
DTSTAMP:20241108T141904Z
URL:https://chareejanelle.com/events-list/embodied-expression-somatic-ecst
 atic-experience-singles-edition/
SUMMARY:Embodied Expression Experience -SINGLES EDITION-
DESCRIPTION:\n\nEMBODIED EXPRESSION EXPERIENCE-SINGLES EDITION\n\n\n\nPhill
 y/New York/New Jersey-Tri State \n\n\nDo You love to move your body &amp\
 ; dance?\nAre you growth oriented\, conscious &amp\; awake &amp\; desire a
  sacred relationship?\n\nAre you ready\, open &amp\; available to call in 
 your partner?\n  Do you love love &amp\; desire heart based connection?\n
 \nPerhaps you desire to open a bit more &amp\; feel expansive\, embodied &
 amp\; free\,\nwithin your mind-body &amp\; being.\n\nIn a high paced\, go-
 go- swipe right/left\, hook-up culture\, it can be quite nerve racking\, d
 epleting &amp\; time consuming to engage in &amp\; weed through the avoida
 nt's &amp\; emotionally unavailable people and/or attempt to connect onlin
 e.\n\nMaybe you are like me &amp\; prefer to meet someone organically- hav
 e gotten the 'hit' that your 'partner' will show up while you are in your 
 element\, having fun &amp\; focused on your souls mission.  Trusting in t
 he divine plan.\nYou aren't  looking or searching - you are happy exactly
  as you are.\nWhen it happens\, it happens.\nYou are whole\, perfect\, and
  complete exactly as you are.\n\n I get it. I see you. I hear you. I feel
  you. Really\, I do.......\nand I got you.\n\n     This is what inspire
 d me to co-create this special Singles Edition of Embodied Expression!\n\n
 \n\nEmbodied Expression is a sacred experience- immerse yourselves in the 
 art of dance\, movement &amp\; heart opening experiences\, sacred connecti
 ons\, playful exchanges\, authentic &amp\; free form expression.\nThe Gree
 k term ecstasis (meaning “to stand outside oneself”) is the etymologic
 al mother of our English words ecstasy and ecstatic. Ecstasis (also spelt 
 ekstasis) is a moment of insight\; it is a moment of total immersion in be
 ing. To stand outside of\, or transcend the ego.\nThis journey of consciou
 s free form movement\, somatics\, partner play &amp\; ecstatic dance paire
 d with carefully curated musical landscape guides you on a journey into th
 e layers of your being.\nCome as you are\, and sink into this sacred space
  of freedom\, safety and celebration.\nDance yourself into your most authe
 ntic bliss self.\nCharee invites you into the depths of your spirit for co
 mplete  freedom to do whatever your body wants to do in this space. If yo
 u want to shake your whole body\, head to toe\, rock back forth\, or crawl
  around on the floor\, howl and moan\, all is welcomed.\nCharee leads you 
 into a  place where the rhythm beat of the music invites you to discover 
 places within Self\,  a place where thinking &amp\; talking cannot touch.
 \nEmbodied Expression with Charee is a spiritual\, transformational &amp\;
  illuminating experience.  From opening to close- shift will take place\,
  an activation.\nThis is a invite to come home to your Bliss Self. A divin
 e remembrance.\nThis journey will naturally bring you down into resting po
 sition\, where we will close with  guided conscious sacred breathwork to 
 calm the nervous system &amp\; gentle gong bath.\nThere will be opportunit
 y to share about our exploration with one another &amp\; open mingle time 
 with other awake\, conscious\, "ready for love- because I am love" beings.
 \n&nbsp\;\nThis is an invite to External Activity &amp\; Internal Explorat
 ion.\nExternal Sound &amp\; Internal Stillness.\nYin &amp\; Yang experienc
 e if you will.\n\n\n&nbsp\;\n\n~No experience necessary to join us. All of
  you and all expressions are welcome.\n~Registration is necessary &amp\; w
 ill close 24 hours prior to event or when we reach capacity.\n~This is a c
 onscious sober event.  No substances please and thank you!!!\n~Phones are
  required to be turned off &amp\; shoes.\n~Dress comfortably in layers\, b
 ring a refillable water bottle\, yoga mat\, blanket &amp\; journal &amp\; 
 anything else that feels right.\n~This is trauma informed and a safe space
 \n&nbsp\;\nThank you &amp\; I look forward to moving\,breathing\, beating 
 &amp\; connecting with you.\n\n\n\nDate:\n11/24/24\n&nbsp\;\nTIME:\n11 am-
  2:30pm\n&nbsp\;\nLOCATION:\nAwaken Center For Human Evolution\nPlymouth M
 eeting\, Pa\n\n\n&nbsp\;\n\n&nbsp\;\n\n\n\n️\n\n\n\n\n\nLimited tickets 
 available 2/$77 until 11/11\nPrice will be $44 &amp\; $53 thereafter\n\n\n
 \n\n\n\nIf you are interested in hosting this event at your studio\, cente
 r\, or wellness center\nplease connect info@chareejanelle.com\nsubject: EM
 BODIED SINGLES\n\n\n\n\n\n\n\n\n
ATTACH;FMTTYPE=image/jpeg:https://chareejanelle.com/wp-content/uploads/202
 4/11/Screenshot_20241108_091703_Messages.jpg
CATEGORIES:DANCE,Relationship,Workshops
LOCATION:AWAKEN Center for Human Evolution\, Plymouth Meeting mall \, Plymo
 uth Meeting \, Pa \, United States
GEO:40.102332;-75.274347
X-APPLE-STRUCTURED-LOCATION;VALUE=URI;X-ADDRESS=Plymouth Meeting mall \, Pl
 ymouth Meeting \, Pa \, United States;X-APPLE-RADIUS=100;X-TITLE=AWAKEN Ce
 nter for Human Evolution:geo:40.102332,-75.274347
END:VEVENT
BEGIN:VTIMEZONE
TZID:America/New_York
X-LIC-LOCATION:America/New_York
BEGIN:STANDARD
DTSTART:20241103T010000
TZOFFSETFROM:-0400
TZOFFSETTO:-0500
TZNAME:EST
END:STANDARD
END:VTIMEZONE
END:VCALENDAR