BEGIN:VCALENDAR
VERSION:2.0
PRODID:-//wp-events-plugin.com//7.2.3.1//EN
TZID:America/New_York
X-WR-TIMEZONE:America/New_York
BEGIN:VEVENT
UID:251@chareejanelle.com
DTSTART;TZID=America/New_York:20251003T190000
DTEND;TZID=America/New_York:20251003T213000
DTSTAMP:20251002T001512Z
URL:https://chareejanelle.com/events-list/embodied-expression-somatic-ecst
 atic-dance-experience-for-conscious-awake-singles-2/
SUMMARY:EMBODIED EXPRESSION Somatic/Ecstatic Dance Experience for Conscious
  Awake Singles( October)
DESCRIPTION:\n\nEMBODIED EXPRESSION- Conscious &amp\;  Awake Singles Editi
 on\n1ST Fridays - 7pm \nLocation: The Awaken Center\, Plymouth Meeting Ma
 ll \n&nbsp\;\n\nDo You love to move your body &amp\; dance?\n\nAre you gr
 owth oriented\, conscious &amp\; awake &amp\; desire a sacred relationship
 ?\n\nAre you ready\, open &amp\; available to call in your partner?\n\nDo 
 you love love &amp\; desire heart based connection?\n\n&nbsp\;\n\nPerhaps 
 you desire to open a bit more &amp\; feel expansive\, embodied &amp\; free
 \, within your mind-body &amp\; being?\n\n&nbsp\;\n\nIn a high paced\, go-
 go swipe right/left\, hook-up culture\, it can be quite nerve racking\, de
 pleting &amp\; time consuming to engage in &amp\; weed through the avoidan
 t &amp\; emotionally unavailable people and/or attempt to connect online.\
 n\n&nbsp\;\n\nMaybe you are like me &amp\; prefer to meet someone organica
 lly- have gotten the ‘hit’ that your ‘partner’ will show up while 
 you are in your element\, having fun &amp\; focused on your soul's mission
 . Trusting in the divine plan. You aren’t looking or searching – you a
 re happy exactly as you are.\n\n&nbsp\;\n\nWhen it happens\, it happens. Y
 ou are whole\, perfect\, and complete exactly as you are. I get it. I see 
 you. I hear you. I feel you. Really\, I do…….\n\n&nbsp\;\n\nand I got 
 you.\n\n&nbsp\;\n\nThis is what inspired me to co-create the Singles Editi
 on of Embodied Expression!\n\n&nbsp\;\n\nEmbodied Expression is a sacred e
 xperience- immerse yourselves in the art of dance\, movement &amp\; heart 
 opening experiences\, sacred connections\, playful exchanges\, authentic &
 amp\; free form expression.\n\n&nbsp\;\n\nThe Greek term ecstasis (meaning
  “to stand outside oneself”) is the etymological mother of our English
  words ecstasy and ecstatic. Ecstasis (also spelt ekstasis) is a moment of
  insight\; it is a moment of total immersion in being. To stand outside of
 \, or transcend the ego.\n\n&nbsp\;\n\nThis journey of conscious free form
  movement\, somatics\, partner play &amp\; ecstatic dance paired with care
 fully curated musical landscape guides you on a journey into the layers of
  your being.\n\n&nbsp\;\n\nCome as you are\, and sink into this sacred spa
 ce of freedom\, safety and celebration.\n\n&nbsp\;\n\nDance yourself into 
 your most authentic bliss self.\n\n&nbsp\;\n\nCharee invites you into the 
 depths of your spirit for complete freedom to do whatever your body wants 
 to do in this space. If you want to shake your whole body\, head to toe\, 
 rock back and forth\, or crawl around on the floor\, howl and moan\, all a
 re welcome. She leads you into a place where the rhythm beat of the music 
 invites you to discover places within Self\, a place where thinking &amp\;
  talking cannot touch.\n\n&nbsp\;\n\nEmbodied Expression with Charee is a 
 spiritual\, transformational &amp\; illuminating experience. From opening 
 to close- shift will take place\, an activation. This is an invite to come
  home to your Bliss Self. A divine remembrance.\n\n&nbsp\;\n\nThis journey
  will naturally bring you down into a resting position\, where we will clo
 se with guided conscious sacred breathwork to calm the nervous system &amp
 \; gentle gong bath.\n\n&nbsp\;\n\nThere will be an opportunity to share a
 bout our exploration with one another &amp\; open mingle time with other a
 wake\, conscious\, “ready for love- because I am love” beings.\n\n&nbs
 p\;\n\nThis is an invite to External Activity &amp\; Internal Exploration.
 \n\nExternal Sound &amp\; Internal Stillness.\n\nYin &amp\; Yang experienc
 e if you will.\n\n&nbsp\;\n\n~No experience necessary to join us. All of y
 ou and all expressions are welcome.\n\n~Registration is necessary &amp\; w
 ill close 24 hours prior to the event or when we reach capacity.\n\n~This 
 is a conscious sober event. No substances please and thank you!!!\n\n~Phon
 es are required to be turned off &amp\; shoes.\n\n~Dress comfortably in la
 yers\, bring a refillable water bottle\, yoga mat\, blanket &amp\; journal
  &amp\; anything else that feels right.\n\n~This is trauma informed and a 
 safe space\n\n&nbsp\;\n\nThank you &amp\; I look forward to moving\, breat
 hing\, beating &amp\; connecting with you.\n\n~ Charee\n\n&nbsp\;\n\n&nbsp
 \;\n\n&nbsp\;\n\n\n
ATTACH;FMTTYPE=image/jpeg:https://chareejanelle.com/wp-content/uploads/202
 5/09/Embodied-Expression-event-2800x1600-1-scaled.jpg
CATEGORIES:Workshops
LOCATION:AWAKEN Center for Human Evolution\, Plymouth Meeting mall \, Plymo
 uth Meeting \, Pa \, United States
GEO:40.102332;-75.274347
X-APPLE-STRUCTURED-LOCATION;VALUE=URI;X-ADDRESS=Plymouth Meeting mall \, Pl
 ymouth Meeting \, Pa \, United States;X-APPLE-RADIUS=100;X-TITLE=AWAKEN Ce
 nter for Human Evolution:geo:40.102332,-75.274347
END:VEVENT
BEGIN:VTIMEZONE
TZID:America/New_York
X-LIC-LOCATION:America/New_York
BEGIN:DAYLIGHT
DTSTART:20250309T030000
TZOFFSETFROM:-0500
TZOFFSETTO:-0400
TZNAME:EDT
END:DAYLIGHT
END:VTIMEZONE
END:VCALENDAR