BEGIN:VCALENDAR
VERSION:2.0
PRODID:-//wp-events-plugin.com//7.2.3.1//EN
TZID:America/New_York
X-WR-TIMEZONE:America/New_York
BEGIN:VEVENT
UID:68@chareejanelle.com
DTSTART;TZID=America/New_York:20230617T183000
DTEND;TZID=America/New_York:20230617T210000
DTSTAMP:20230531T130434Z
URL:https://chareejanelle.com/events-list/embodied-expression-ecstatic-dan
 ce-experience/
SUMMARY:Embodied Expression  Ecstatic Dance Experience
DESCRIPTION:Embodied Expression is where we express ourselves through creat
 ive movement to say what words cannot say and entering our truth.\n\nThe G
 reek term ecstasis (meaning “to stand outside oneself”) is the etymolo
 gical mother of our English words ecstasy and ecstatic. Ecstasis (also spe
 lt ekstasis) is a moment of insight\; it is a moment of total immersion in
  being. To stand outside of\, or transcend the ego.  \n\nThis journey of c
 oncious free form movement & ecstatic dance paired with carefully curated 
 musical landscape guides you on a journey into the layers of your being.\n
 \n Come as you are\, and sink into this sacred space of freedom\, safety a
 nd celebration. Dance yourself into your most authentic bliss of nature\, 
  and release all of which does not serve you.\n\nCharee invites you into t
 he depths of your spirit for complete  freedom to do whatever your body wa
 nts to do in this space. If you want to shake your whole body\, head to to
 e\, or  you choose to rock back and forth or crawl around on the floor\, t
 hats great too.  \n\nLights are dim as ChAree leads you into a  place wher
 e the rhythm beat of the music invites you in to discover places within Se
 lf\,  a place where thinking & talking cannot  touch. \n\n Ecstatic dance 
 with Charee is a spiritual & transformatice experience.  From opening to c
 losing\, a shift will take place inside your heart and spirit. Weight will
  be lifted & you will feel much lighter & connected to Source and the LOVE
  that you are. \n  This is a invite to come home to your Self. \nA remembe
 rance.  \n\nThis journey will naturally bring you back down to a resting p
 osition\, we will close with some conscious breathwork to calm the nervous
  system & and gentle sound/gong bath.  \nThere will be an opportunity to s
 hare about our exploration with one another. \n\nExternal Activity & Inter
 nal Exploration. External Sound & Internal Stillness. Yin & Yang experienc
 e if you will.  \n\n🌹No experience necessary to join us. All of you and
  all expressions are welcome in this space. \n\n🌹Limited space is avail
 able & registration is necessary.\n\n🌹This is a sober event \n\n🌹The
 re is no talking allowed during this dance experience \n\n🌹Phones are r
 equired to be turned off \n\n🌹Dresses comfortably in layers\, bring a r
 efillable water bottle\, yoga mat\, blanket & journal & anything else that
  feels right \n\n🌹This is trauma informed and a safe space for all. \n\
 n\n\nAny questions please direct them to info@chareejanelle.com \n\n\n\n\n
 Your Investment: $44\n\n\n\n\nThank you & I look forward to moving in sacr
 ed space with all of you ✨️\n\n\n\n
CATEGORIES:DANCE
LOCATION:home pym\, 154 skyline drive \, Reading \, PA\, 19606\, United Sta
 tes
GEO:40.379643;-75.880467
X-APPLE-STRUCTURED-LOCATION;VALUE=URI;X-ADDRESS=154 skyline drive \, Readin
 g \, PA\, 19606\, United States;X-APPLE-RADIUS=100;X-TITLE=home pym:geo:40
 .379643,-75.880467
END:VEVENT
BEGIN:VTIMEZONE
TZID:America/New_York
X-LIC-LOCATION:America/New_York
BEGIN:DAYLIGHT
DTSTART:20230312T030000
TZOFFSETFROM:-0500
TZOFFSETTO:-0400
TZNAME:EDT
END:DAYLIGHT
END:VTIMEZONE
END:VCALENDAR