BEGIN:VCALENDAR
VERSION:2.0
PRODID:-//wp-events-plugin.com//7.2.3.1//EN
TZID:America/New_York
X-WR-TIMEZONE:America/New_York
BEGIN:VEVENT
UID:99@chareejanelle.com
DTSTART;TZID=America/New_York:20231125T110000
DTEND;TZID=America/New_York:20231125T133000
DTSTAMP:20231116T010110Z
URL:https://chareejanelle.com/events-list/embodied-expression-ecstatic-dan
 ce-7/
SUMMARY:Embodied Expression Ecstatic Dance
DESCRIPTION:&nbsp\;\n\nEmbodied Expression is where we express ourselves th
 rough creative movement to say what words cannot say and entering our trut
 h.\nThe Greek term ecstasis (meaning “to stand outside oneself”) is th
 e etymological mother of our English words ecstasy and ecstatic. Ecstasis 
 (also spelt ekstasis) is a moment of insight\; it is a moment of total imm
 ersion in being. To stand outside of or transcend the ego.\nThis journey o
 f conscious free form movement &amp\; ecstatic dance paired with carefully
  curated musical landscape guides you on a journey into the layers of your
  being.\nCome as you are\, and sink into this sacred space of freedom\, sa
 fety and celebration. Dance yourself into your most authentic bliss of nat
 ure\, and release all of which does not serve you.\nCharee invites you int
 o the depths of your spirit for complete freedom to do whatever your body 
 wants to do in this space. If you want to shake your whole body\, head to 
 toe\, or you choose to rock back and forth or crawl around on the floor\, 
 that's great too.\nLights are dim as Charee leads you into a place where t
 he rhythm beat of the music invites you in to discover places within Self\
 , a place where thinking &amp\; talking cannot touch.\nEcstatic dance with
  Charee is a spiritual &amp\; transformative experience. From opening to c
 losing\, a shift will take place inside your heart and spirit. Weight will
  be lifted &amp\; you will feel much lighter &amp\; connected to Source an
 d the LOVE that you are.\nThis is a invite to come home to your Self.\nA r
 emembrance.\nThis journey will naturally bring you back down to a resting 
 position\, we will close with some conscious breathwork to calm the nervou
 s system &amp\; and gentle sound/gong bath.\nThere will be an opportunity 
 to share about our exploration with one another.\nExternal Activity &amp\;
  Internal Exploration. External Sound &amp\; Internal Stillness. Yin &amp\
 ; Yang experience if you will.\n\nNo experience necessary to join us. All 
 of you and all expressions are welcome in this space.\n\nLimited space is 
 available &amp\; registration is necessary.\n\nThis is a sober event\n\nTh
 ere is no talking allowed during this dance experience\n\nPhones are requi
 red to be turned off\n\nDresses comfortably in layers\, bring a refillable
  water bottle\, yoga mat\, blanket &amp\; journal &amp\; anything else tha
 t feels right\n\nThis is trauma informed and a safe space for all.\n\nAny 
 questions please direct them to info@chareejanelle.com or smccarter@healin
 genergieswellness.com or by calling Healing Energies Wellness Center\n\nTh
 ank you &amp\; I look forward to dancing with you\nSpace is limited. This 
 will fill. The time is now!!!\n\nPlease visit ChareeJanelle.com for more i
 nformation about Charee and her services and other events.\n\n&nbsp\;\n\ns
 ign up now to ensure your spot.\n\nPlease dont allow money to prevent you 
 from coming reach out to Charee directly and let her know you would like t
 o make a donation.\n\n&nbsp\;\n\nThank you in advance\n\n⏬️⏬️⏬
 ️⏬️⏬️⏬️⏬️\n\n&nbsp\;\n\nhttps://www.mixily.com/event/623
 2333525823037257
ATTACH;FMTTYPE=image/jpeg:https://chareejanelle.com/wp-content/uploads/202
 3/11/Screenshot_20231115_200023_Messenger.jpg
CATEGORIES:DANCE,Workshops
END:VEVENT
BEGIN:VTIMEZONE
TZID:America/New_York
X-LIC-LOCATION:America/New_York
BEGIN:STANDARD
DTSTART:20231105T010000
TZOFFSETFROM:-0400
TZOFFSETTO:-0500
TZNAME:EST
END:STANDARD
END:VTIMEZONE
END:VCALENDAR