BEGIN:VCALENDAR
VERSION:2.0
PRODID:-//wp-events-plugin.com//7.2.3.1//EN
TZID:America/New_York
X-WR-TIMEZONE:America/New_York
BEGIN:VEVENT
UID:73@chareejanelle.com
DTSTART;TZID=America/New_York:20230804T190000
DTEND;TZID=America/New_York:20230804T210000
DTSTAMP:20230721T223951Z
URL:https://chareejanelle.com/events-list/embodied-expression-ecstatic-dan
 ce-6/
SUMMARY:Embodied Expression Ecstatic Dance
DESCRIPTION:Embodied Expression is a sacred space to  express ourselves th
 rough movement\, dance\,  breathe &amp\; vibration\, that words cannot sa
 y and entering our truth.\n\nThe Greek term ecstasis (meaning “to stand 
 outside oneself”) is the etymological mother of our English words ecstas
 y and ecstatic. Ecstasis (also spelt ekstasis) is a moment of insight\; it
  is a moment of total immersion in being. To stand outside of\, or transce
 nd the ego.\n\nThis journey of conscious free form movement &amp\; ecstati
 c dance paired with carefully curated musical landscape guides you on a jo
 urney into the layers of your being.\n\nCome as you are\, and sink into th
 is sacred space of freedom\, safety and celebration. Dance yourself into y
 our most authentic bliss self as we dance barefoot amongst mother Gaia\nCh
 aree invites you into the depths of your spirit for complete  freedom to 
 do whatever your body wants to do in this space. If you want to shake your
  whole body\, head to toe\, rock back forth\, or crawl around on the floor
 \, howl and moan\, all is welcomed.\n\nCharee leads you into a  place whe
 re the rhythm beat of the music invites you to discover places within Self
 \,  a place where thinking &amp\; talking cannot touch.\n\nEcstatic dance
  with Charee is a spiritual\, transformational &amp\; illuminating experie
 nce.  From opening to closing\, a shift will take place\, an activation\,
   you will feel much lighter\, connected to Source\, and the LOVE that yo
 u are.\nThis is a invite to come home to your Bliss Self. A divine remembr
 ance.\nThis journey will naturally bring you back down to a resting positi
 on\, we will close with some conscious sacred breathwork to calm the nervo
 us system &amp\; and gentle sound/gong bath.\nThere will be an opportunity
  to share in circle about our exploration with one another.\n\nExternal Ac
 tivity &amp\; Internal Exploration. External Sound &amp\; Internal Stillne
 ss. Yin &amp\; Yang experience if you will.\n\nNo experience necessary to 
 join us. All of you and all expressions are welcome in this space.\n\nregi
 stration is necessary\n\nThis is a conscious sober event\n\nThere is no ta
 lking allowed during this dance part of the experience\n\nPhones are requi
 red to be turned off\n\nDresses comfortably in layers\, bring a refillable
  water bottle\, yoga mat\, blanket &amp\; journal &amp\; anything else tha
 t feels right\n\nThis is trauma informed and a safe space for all\n\nThank
  you &amp\; I look forward to moving with you ️\n$44\nDate:\nFriday 7/1
 4 \,7pm  SoulCentered Wellness Center\, Leesport PA\n&nbsp\;\n\nEmbodied 
 Expression Ecstatic Dance\n\n
ATTACH;FMTTYPE=image/jpeg:https://chareejanelle.com/wp-content/uploads/202
 3/04/Screenshot_20230413_204204_Canva.jpg
CATEGORIES:DANCE,Workshops
LOCATION:SoulCentered Wellness Center\, 2619 Leisczs Bridge Rd Ste.300\, Le
 esport\, PA\, 19533\, United States
GEO:40.389227;-75.980007
X-APPLE-STRUCTURED-LOCATION;VALUE=URI;X-ADDRESS=2619 Leisczs Bridge Rd Ste.
 300\, Leesport\, PA\, 19533\, United States;X-APPLE-RADIUS=100;X-TITLE=Sou
 lCentered Wellness Center:geo:40.389227,-75.980007
END:VEVENT
BEGIN:VTIMEZONE
TZID:America/New_York
X-LIC-LOCATION:America/New_York
BEGIN:DAYLIGHT
DTSTART:20230312T030000
TZOFFSETFROM:-0500
TZOFFSETTO:-0400
TZNAME:EDT
END:DAYLIGHT
END:VTIMEZONE
END:VCALENDAR