BEGIN:VCALENDAR
VERSION:2.0
PRODID:-//wp-events-plugin.com//7.2.3.1//EN
TZID:America/New_York
X-WR-TIMEZONE:America/New_York
BEGIN:VEVENT
UID:71@chareejanelle.com
DTSTART;TZID=America/New_York:20230916T180000
DTEND;TZID=America/New_York:20230916T203000
DTSTAMP:20230911T160220Z
URL:https://chareejanelle.com/events-list/embodied-expression-ecstatic-dan
 ce-5/
SUMMARY:Embodied Expression Ecstatic Dance
DESCRIPTION:\n 	Embodied Expression is a sacred space to  express ourselve
 s through movement\, dance\,  breathe &amp\; vibration\, that words canno
 t say and entering our truth.\n\nThe Greek term ecstasis (meaning “to st
 and outside oneself”) is the etymological mother of our English words ec
 stasy and ecstatic. Ecstasis (also spelt ekstasis) is a moment of insight\
 ; it is a moment of total immersion in being. To stand outside of\, or tra
 nscend the ego.\n\nThis journey of conscious free form movement &amp\; ecs
 tatic dance paired with carefully curated musical landscape guides you on 
 a journey into the layers of your being.\n\nCome as you are\, and sink int
 o this sacred space of freedom\, safety and celebration.\n\nDance yourself
  into your most authentic bliss.  Feel the JOY throughout your entire bei
 ng.\n\nCharee invites you into the depths of your spirit for complete  fr
 eedom to do whatever your body wants to do in this space. If you want to s
 hake your whole body\, head to toe\, rock back forth\, or crawl around on 
 the floor\, howl and moan\, use your body as an instrument\, all is welcom
 ed.\n\nCharee leads you into a  place where the rhythm beat of the music 
 invites you to discover places within Self\,  a place where thinking &amp
 \; talking cannot touch.\n\nEcstatic dance with Charee is a spiritual\, tr
 ansformational &amp\; illuminating experience.  From opening to closing\,
  a shift will take place\, an activation\,  you will feel much lighter\, 
 connected to Source\, and the LOVE that you are.\n\nThis is a invite to co
 me home to your Bliss Self. A divine remembrance.\nThis journey will natur
 ally bring you back down to a resting position\, we will close with some c
 onscious breathwork to calm the nervous system &amp\; and a gentle sound/g
 ong bath.\n\nThere will be an opportunity to share in closing circle about
  our exploration with one another.\n\n&nbsp\;\n\nExternal Activity &amp\; 
 Internal Exploration. External Sound &amp\; Internal Stillness. Yin &amp\;
  Yang experience if you will.\n\n-No experience necessary to join us. All 
 of you and all expressions are welcome in this spac\n\n-This is a sober sp
 ace\n\n-There is no talking allowed during this dance part of the experien
 ce\n\n-Phones are required to be turned off\n\n-Dress comfortably in layer
 s\, bring a refillable water bottle\, journal for reflection and anything 
 else that feels right\, a hand drum if you feel called\n\n-This is trauma 
 informed\, safe space for all\n\n-️ It is recommended nothing heavy to e
 at 90 mins prior\n\n&nbsp\;\n\n&nbsp\;\n\nRegister now to ensure your spot
 .\n\nhttps://get.mndbdy.ly/xlTGiQEuLCb\n\n\n\nDate: 9/16\n\nTime:  6pm\nL
 ocation: Center City Breathe\, Philadelphia\n
ATTACH;FMTTYPE=image/jpeg:https://chareejanelle.com/wp-content/uploads/202
 3/04/Screenshot_20230413_204204_Canva.jpg
CATEGORIES:DANCE,Workshops
LOCATION:Center city breathe\, 1425 federal street \, Philadelphia \, Pa\, 
 19146\, United States
GEO:39.936175;-75.168267
X-APPLE-STRUCTURED-LOCATION;VALUE=URI;X-ADDRESS=1425 federal street \, Phil
 adelphia \, Pa\, 19146\, United States;X-APPLE-RADIUS=100;X-TITLE=Center c
 ity breathe:geo:39.936175,-75.168267
END:VEVENT
BEGIN:VTIMEZONE
TZID:America/New_York
X-LIC-LOCATION:America/New_York
BEGIN:DAYLIGHT
DTSTART:20230312T030000
TZOFFSETFROM:-0500
TZOFFSETTO:-0400
TZNAME:EDT
END:DAYLIGHT
END:VTIMEZONE
END:VCALENDAR