BEGIN:VCALENDAR
VERSION:2.0
PRODID:-//wp-events-plugin.com//7.2.3.1//EN
TZID:America/New_York
X-WR-TIMEZONE:America/New_York
BEGIN:VEVENT
UID:61@chareejanelle.com
DTSTART;TZID=America/New_York:20230505T190000
DTEND;TZID=America/New_York:20230505T210000
DTSTAMP:20230414T055813Z
URL:https://chareejanelle.com/events-list/embodied-expression-ecstatic-dan
 ce-2/
SUMMARY:Embodied Expression Ecstatic Dance
DESCRIPTION:\n\n\nEmbodied Expression is a sacred space to  express oursel
 ves through movement\, dance\,  breathe &amp\; vibration\, that words can
 not say and entering our truth.\n\nThe Greek term ecstasis (meaning “to 
 stand outside oneself”) is the etymological mother of our English words 
 ecstasy and ecstatic. Ecstasis (also spelt ekstasis) is a moment of insigh
 t\; it is a moment of total immersion in being. To stand outside of\, or t
 ranscend the ego.\n\nThis journey of conscious free form movement &amp\; e
 cstatic dance paired with carefully curated musical landscape guides you o
 n a journey into the layers of your being.\n\nCome as you are\, and sink i
 nto this sacred space of freedom\, safety and celebration. Dance yourself 
 into your most authentic bliss self as we dance barefoot amongst mother Ga
 ia\nCharee invites you into the depths of your spirit for complete  freed
 om to do whatever your body wants to do in this space. If you want to shak
 e your whole body\, head to toe\, rock back forth\, or crawl around on the
  floor\, howl and moan\, all is welcomed.\n\nCharee leads you into a  pla
 ce where the rhythm beat of the music invites you to discover places withi
 n Self\,  a place where thinking &amp\; talking cannot touch.\n\nEcstatic
  dance with Charee is a spiritual\, transformational &amp\; illuminating e
 xperience.  From opening to closing\, a shift will take place\, an activa
 tion\,  you will feel much lighter\, connected to Source\, and the LOVE t
 hat you are.\n\nThis is a invite to come home to your Bliss Self. A divine
  remembrance.\nThis journey will naturally bring you back down to a restin
 g position\, we will close with some conscious sacred breathwork to calm t
 he nervous system &amp\; and gentle sound/gong bath.\nThere will be an opp
 ortunity to share in circle about our exploration with one another.\n\nExt
 ernal Activity &amp\; Internal Exploration. External Sound &amp\; Internal
  Stillness. Yin &amp\; Yang experience if you will.\n\nNo experience neces
 sary to join us. All of you and all expressions are welcome in this space.
 \n\nregistration is necessary\n\nThis is a conscious sober event\n\nThere 
 is no talking allowed during this dance part of the experience\n\nPhones a
 re required to be turned off\n\nDresses comfortably in layers\, bring a re
 fillable water bottle\, yoga mat\, blanket &amp\; journal &amp\; anything 
 else that feels right\n\nThis is trauma informed and a safe space for all\
 n\nThank you &amp\; I look forward to moving with you \n\n️\n\n\n\n$44\
 n\n Dates\;\n\n\nFriday 5/5\, 7pm City Of Angels\, Hamilton township\, NJ
 \n\n\n\n\n\n\n\n
ATTACH;FMTTYPE=image/jpeg:https://chareejanelle.com/wp-content/uploads/202
 3/04/Screenshot_20230413_204204_Canva.jpg
CATEGORIES:Workshops
END:VEVENT
BEGIN:VTIMEZONE
TZID:America/New_York
X-LIC-LOCATION:America/New_York
BEGIN:DAYLIGHT
DTSTART:20230312T030000
TZOFFSETFROM:-0500
TZOFFSETTO:-0400
TZNAME:EDT
END:DAYLIGHT
END:VTIMEZONE
END:VCALENDAR