BEGIN:VCALENDAR
VERSION:2.0
PRODID:-//wp-events-plugin.com//7.2.3.1//EN
TZID:America/New_York
X-WR-TIMEZONE:America/New_York
BEGIN:VEVENT
UID:111@chareejanelle.com
DTSTART;TZID=America/New_York:20240607T183000
DTEND;TZID=America/New_York:20240607T210000
DTSTAMP:20240515T111036Z
URL:https://chareejanelle.com/events-list/embodied-expression-a-somatic-ec
 static-dance-workshop/
SUMMARY:EMBODIED EXPRESSION-A Somatic & Ecstatic Dance Workshop
DESCRIPTION: DANCE IS LANGUAGE OF THE SOUL!!!\nEmbodied Expression is over
  the moon  to be back in Royersford\n\nEmbodied Expression A Somatic &amp
 \; Ecstatic Dance Workshop is a sacred space for adults to freely express\
 , dancing their prayers\, exploring the depths &amp\; visions of your inne
 rmost being\, all awhile celebrating the ecstasy of embodiment.\n\nInspire
 d with the intention of co creating a higher vibration in the world\, with
 in this sacred container one is free to embark on a deep journey inwards t
 o the body\, mind\, and heart to explore what is alive for you in this now
  moment.  A journey of somatic practices\, concious free form movement &a
 mp\; ecstatic dance paired with a curated musical landscape\, journeys you
  back to your most authentic BLISS being.\n\nThe Greek term ecstasis (mean
 ing “to stand outside oneself”) is the etymological mother of our Engl
 ish words ecstasy and ecstatic. Ecstasis (also  ekstasis) is a moment of 
 insight\; it is a moment of total immersion in being. To stand outside of\
 , or transcend the ego.\n\nCome as you are\, and sink into this sacred spa
 ce of freedom\, safety\, play\, joy and celebration.  Charee invites you 
 into the depths of your spirit for complete freedom to do whatever your bo
 dy wants to do in this space. If you want to shake your whole body head to
  toe\,  rock back and forth\, happy cry\, primal howl &amp\; everything i
 n between\, all of you and all of your expression is welcomed. \n\n " Em
 bodied Expression with Charee is a spiritual\, deeply healing\, transforma
 tional experience. A Divine Remembrance." \n\nThis experience will lead y
 ou into a place where the rhythm beat of the music &amp\; breath invites y
 ou to discover places within Self\, in this space the thinking mind &amp\;
  talking simply do not exist.\n We will close with conscious breathing  
 to calm the nervous system\, followed by a sound/gong bath and an opportun
 ity to share in circle about our exploration.\n\n    External Activity &
 amp\; Internal Exploration.\n       External Sound &amp\; Internal Sti
 llness. \n                  Yin &amp\; Yang experience if you wi
 ll.\n\nNo experience necessary to join us.\nLimited space is available &am
 p\; registration is strongly encouraged. This is a trauma informed\, consc
 ious &amp\; sober dance.\nDresses comfortably in layers\, bring a refillab
 le water bottle\, yoga mat\, blanket &amp\; journal &amp\; anything else t
 hat feels right.\n\nPick your price ticket $44 -$55\nPlease don't allow fi
 nances to keep you from attending. Reach out to Charee directly at info@ch
 areejanelle.com  to request sliding scale price.\n\nSign up now to ensure
  your spot!!\nDate: Friday June 7th\, 7p-9:30pm\n&nbsp\;\n⬇️⬇️SIGN
  UP ⬇️⬇️\n&nbsp\;\n\n&nbsp\;\n\nhttps://www.mixily.com/event/82752
 67776963998079\n
ATTACH;FMTTYPE=image/jpeg:https://chareejanelle.com/wp-content/uploads/202
 4/03/20240307_142651_0000.png
CATEGORIES:DANCE,Workshops
LOCATION:healing energies chiropractic\, 463 west ridge Pike \, Royersford 
 \, Pa \, 19468\, United States
GEO:40.233048;-75.527298
X-APPLE-STRUCTURED-LOCATION;VALUE=URI;X-ADDRESS=463 west ridge Pike \, Roye
 rsford \, Pa \, 19468\, United States;X-APPLE-RADIUS=100;X-TITLE=healing e
 nergies chiropractic:geo:40.233048,-75.527298
END:VEVENT
BEGIN:VTIMEZONE
TZID:America/New_York
X-LIC-LOCATION:America/New_York
BEGIN:DAYLIGHT
DTSTART:20240310T030000
TZOFFSETFROM:-0500
TZOFFSETTO:-0400
TZNAME:EDT
END:DAYLIGHT
END:VTIMEZONE
END:VCALENDAR