BEGIN:VCALENDAR
VERSION:2.0
PRODID:-//wp-events-plugin.com//7.2.3.1//EN
TZID:America/New_York
X-WR-TIMEZONE:America/New_York
BEGIN:VEVENT
UID:154@chareejanelle.com
DTSTART;TZID=America/New_York:20241020T110000
DTEND;TZID=America/New_York:20241020T133000
DTSTAMP:20240719T061918Z
URL:https://chareejanelle.com/events-list/embodied-expression-a-somatic-ec
 static-dance-workshop-5/
SUMMARY:EMBODIED EXPRESSION-A Somatic & Ecstatic Dance Workshop
DESCRIPTION: DANCE IS LANGUAGE OF THE SOUL!!!\nEmbodied Expression is over
  the moon to partner up with Shanteel Yoga Sanctuary on June 22nd.\n\nEmbo
 died Expression A Somatic &amp\; Ecstatic Dance Workshop is a sacred space
  for adults to freely express\, dancing their prayers\, exploring the dept
 hs &amp\; visions of your innermost being\, all awhile celebrating the ecs
 tasy of embodiment.\n\nInspired with the intention of co creating a higher
  vibration in the world\, within this sacred container one is free to emba
 rk on a deep journey inwards to the body\, mind\, and heart to explore wha
 t is alive for you in this now moment.  A journey of somatic practices\, 
 conscious free form movement &amp\; ecstatic dance paired with a curated m
 usical landscape\, journeys you back to your most authentic BLISS being.\n
 \nThe Greek term ecstasis (meaning “to stand outside oneself”) is the 
 etymological mother of our English words ecstasy and ecstatic. Ecstasis (a
 lso  ekstasis) is a moment of insight\; it is a moment of total immersion
  in being. To stand outside of\, or transcend the ego.\n\nCome as you are\
 , and sink into this sacred space of freedom\, safety\, play\, joy and cel
 ebration.  Charee invites you into the depths of your spirit for complete
  freedom to do whatever your body wants to do in this space. If you want t
 o shake your whole body head to toe\,  rock back and forth\, happy cry\, 
 primal howl &amp\; everything in between\, all of you and all of your expr
 ession is welcomed. \n\n " Embodied Expression with Charee is a spiritua
 l\, deeply healing\, transformational experience. A Divine Remembrance." 
 \n\nThis experience will lead you into a place where the rhythm beat of th
 e music &amp\; breath invites you to discover places within Self\, in this
  space the thinking mind &amp\; talking simply do not exist.\n We will cl
 ose with conscious breathing  to calm the nervous system\, followed by a 
 sound/gong bath and an opportunity to share in circle about our exploratio
 n.\n\n    External Activity &amp\; Internal Exploration.\n       Ext
 ernal Sound &amp\; Internal Stillness. \n                  Yin &
 amp\; Yang experience if you will.\n\nNo experience necessary to join us.\
 nLimited space is available &amp\; registration is strongly encouraged. Th
 is is a trauma informed\, conscious &amp\; sober dance.\nDresses comfortab
 ly in layers\, bring a refillable water bottle\, yoga mat\, blanket &amp\;
  journal &amp\; anything else that feels right.\n\nPick your price ticket 
 $44 -$55\nPlease don't allow finances to keep you from attending.\nReach o
 ut to Charee directly at info@chareejanelle.com  to request sliding scale
  price.\n\nSign up now to ensure your spot!!\nDate:  Sunday October 20th\
 , 11am -1:30pm\n&nbsp\;\n\nREGISTER ----http://www.shanteelyogasanctuary.c
 om\n
ATTACH;FMTTYPE=image/jpeg:https://chareejanelle.com/wp-content/uploads/202
 4/03/20240307_142651_0000.png
CATEGORIES:DANCE,Workshops
LOCATION:shanteel yoga sanctuary\, 111 north branch street \, sellersville 
 \, pa\, 18960\, United States
GEO:40.358538;-75.310911
X-APPLE-STRUCTURED-LOCATION;VALUE=URI;X-ADDRESS=111 north branch street \, 
 sellersville \, pa\, 18960\, United States;X-APPLE-RADIUS=100;X-TITLE=shan
 teel yoga sanctuary:geo:40.358538,-75.310911
END:VEVENT
BEGIN:VTIMEZONE
TZID:America/New_York
X-LIC-LOCATION:America/New_York
BEGIN:DAYLIGHT
DTSTART:20240310T030000
TZOFFSETFROM:-0500
TZOFFSETTO:-0400
TZNAME:EDT
END:DAYLIGHT
END:VTIMEZONE
END:VCALENDAR