BEGIN:VCALENDAR
VERSION:2.0
PRODID:-//wp-events-plugin.com//7.2.3.1//EN
TZID:America/New_York
X-WR-TIMEZONE:America/New_York
BEGIN:VEVENT
UID:135@chareejanelle.com
DTSTART;TZID=America/New_York:20240413T143000
DTEND;TZID=America/New_York:20240413T170000
DTSTAMP:20240406T001032Z
URL:https://chareejanelle.com/events-list/embodied-expression-a-somatic-ec
 static-dance-workshop-4/
SUMMARY:Embodied Expression-A Somatic Ecstatic Dance Workshop
DESCRIPTION:&nbsp\;\n\nEmbodied Expression A Somatic &amp\; Ecstatic Dance 
 Workshop is a sacred space for adults to freely express\, dancing their pr
 ayers\, exploring the depths &amp\; visions of your innermost being\, all 
 awhile celebrating the ecstasy of embodiment.\n\nInspired with the intenti
 on of co creating a higher vibration in the world\, within this sacred con
 tainer one is free to embark on a deep journey inwards to the body\, mind\
 , and heart to explore what is alive for you in this now moment. A journey
  of somatic practices\, concious free form movement &amp\; ecstatic dance 
 paired with a curated musical landscape\, journeys you back to your most a
 uthentic BLISS being.\n\nThe Greek term ecstasis (meaning “to stand outs
 ide oneself”) is the etymological mother of our English words ecstasy an
 d ecstatic. Ecstasis (also ekstasis) is a moment of insight\; it is a mome
 nt of total immersion in being. To stand outside of\, or transcend the ego
 .\n\nCome as you are\, and sink into this sacred space of freedom\, safety
 \, play\, joy and celebration. Charee invites you into the depths of your 
 spirit for complete freedom to do whatever your body wants to do in this s
 pace. If you want to shake your whole body head to toe\, rock back and for
 th\, happy cry\, primal howl &amp\; everything in betwen\, all of you and 
 all of your expression is welcomed.\n\nThis experience will lead you into 
 a place where the rhythm beat of the music &amp\; breath invites you in to
  discover places within Self\, this space is where the thinking mind &amp\
 ; talking simply cannot touch.\n\nEmbodied Expression with Charee is a dee
 ply spiritual\, transformational &amp\; illuminating experience\, a Divine
  Rememberance. We will close with conscious breathing to calm the nervous 
 system\, followed by a sound/gong bath and an opportunity to share in circ
 le about our exploration.\n\n&nbsp\;\n\nExternal Activity &amp\; Internal 
 Exploration.\n\nEXternal Sound &amp\; Internal Stillness.\n\nYin &amp\; Ya
 ng experience if you will.\n\n&nbsp\;\n\n&nbsp\;\n\n&nbsp\;\n\nNo experien
 ce necessary to join us.\n\n&nbsp\;\n\nLimited space is available &amp\; r
 egistration is strongly encouraged. This is a trauma informed\, concious &
 amp\; sober dance.\n\n&nbsp\;\n\nDresses comfortably in layers\, bring a r
 efillable water bottle\, yoga mat\, blanket &amp\; journal &amp\; anything
  else that feels right.\n\n&nbsp\;\n\n&nbsp\;\n\n&nbsp\;\n\n&nbsp\;\n\nPle
 ase don't allow finances to keep you from attending. Reach out to Charee d
 irectly at info@chareejanelle.com Www.chareejanelle.com to request sliding
  scale price.\n\n&nbsp\;\n\n&nbsp\;\n\n&nbsp\;\nRegister to ensure your sp
 ot. ⬇️⬇️⬇️⬇️\n&nbsp\;\n\nhttp://Www.centercitybreathe.com\
 n\n&nbsp\;\n\n&nbsp\;\n\n&nbsp\;\n\n&nbsp\;\n\n&nbsp\;\n\n&nbsp\;\n\n&nbsp
 \;\n\n&nbsp\;
ATTACH;FMTTYPE=image/jpeg:https://chareejanelle.com/wp-content/uploads/202
 4/03/Screenshot_20240405_094220_Instagram.jpg
CATEGORIES:DANCE,Sound,Workshops
LOCATION:Center city breathe\, 1425 federal street \, Philadelphia \, Pa\, 
 19146\, United States
GEO:39.936175;-75.168267
X-APPLE-STRUCTURED-LOCATION;VALUE=URI;X-ADDRESS=1425 federal street \, Phil
 adelphia \, Pa\, 19146\, United States;X-APPLE-RADIUS=100;X-TITLE=Center c
 ity breathe:geo:39.936175,-75.168267
END:VEVENT
BEGIN:VTIMEZONE
TZID:America/New_York
X-LIC-LOCATION:America/New_York
BEGIN:DAYLIGHT
DTSTART:20240310T030000
TZOFFSETFROM:-0500
TZOFFSETTO:-0400
TZNAME:EDT
END:DAYLIGHT
END:VTIMEZONE
END:VCALENDAR