BEGIN:VCALENDAR
VERSION:2.0
PRODID:-//wp-events-plugin.com//7.2.3.1//EN
TZID:America/New_York
X-WR-TIMEZONE:America/New_York
BEGIN:VEVENT
UID:241@chareejanelle.com
DTSTART;TZID=America/New_York:20250918T120000
DTEND;TZID=America/New_York:20250921T103000
DTSTAMP:20250610T114034Z
URL:https://chareejanelle.com/events-list/elevate-your-presence-retreat-in
 to-sequoia-forrest-september-18th-21st/
SUMMARY:ELEVATE YOUR PRESENCE - Retreat into Sequoia Forrest September 18th
 -21st
DESCRIPTION:Details tba\n\nReal luxury is presence.\n\n&nbsp\;\n\nTucked aw
 ay in the quiet mountains near Sequoia National Park\, Elevate Your Presen
 ce is more than a retreat—it’s a return back to presence\, stillness\,
  and soul. This 4-day immersion with Charee Janelle &amp\; Jesse Hershey i
 s designed to guide you in reconnecting with your whole sovereign self &am
 p\; elevate your presence.\n\n&nbsp\;\n\nPresence is to be fully engaged a
 nd connected to the present moment\, with a focus on the divine or spiritu
 al realm. It involves being aware of one's surroundings\, thoughts\, and e
 motions without judgment\, fostering a sense of connection to oneself\, ot
 hers\, and the divine. This can lead to a deeper understanding of the self
 \, inner wisdom\, and a more authentic way of living and relating to every
 thing &amp\; everyone.\n\n&nbsp\;\n\nRejuvenate.\n\nUnplug.\n\nCome home t
 o You.\n\n&nbsp\;\n\nWhat you will receive:\n\n&nbsp\;\n\nSoulful communit
 y.\n\nDeep restoration.\n\nNutritious meals.\n\nSound healing.\n\nGroup pr
 actices.\n\nSequoia &amp\; hot springs adventure\n\nBreathtaking views fro
 m our home.\n\nFully curated experience.\n\n&nbsp\;\n\n&nbsp\;\n\nLimited 
 spots are available! Copy the link below or tap the link in our bio to gai
 n more information and get started!\n\nEnrollment is now open!\n\n&nbsp\;\
 n\nDeposit of $750 by 6/30\, required to reserve your spot. Private room 4
 k\, shared room 3k.\n\nOption to add on friend and save$\n\n&nbsp\;\n\nCon
 tact charee to set up deposit and payment options\n\n&nbsp\;\n\n&nbsp\;\n\
 nInfo@chareejanelle.com\n\n610.463-4150\n\n&nbsp\;\n\n&nbsp\;\n\n&nbsp\;
ATTACH;FMTTYPE=image/jpeg:https://chareejanelle.com/wp-content/uploads/202
 5/06/Screenshot_20250610_073710_Gallery.jpg
CATEGORIES:Retreats
END:VEVENT
BEGIN:VTIMEZONE
TZID:America/New_York
X-LIC-LOCATION:America/New_York
BEGIN:DAYLIGHT
DTSTART:20250309T030000
TZOFFSETFROM:-0500
TZOFFSETTO:-0400
TZNAME:EDT
END:DAYLIGHT
END:VTIMEZONE
END:VCALENDAR