BEGIN:VCALENDAR
VERSION:2.0
PRODID:-//wp-events-plugin.com//7.2.3.1//EN
TZID:America/New_York
X-WR-TIMEZONE:America/New_York
BEGIN:VEVENT
UID:303@chareejanelle.com
DTSTART;TZID=America/New_York:20260215T140000
DTEND;TZID=America/New_York:20260215T160000
DTSTAMP:20251223T144100Z
URL:https://chareejanelle.com/events-list/elevate-your-partner-%e2%9c%a8/
SUMMARY:Elevate Your Partner ✨
DESCRIPTION:\n\nA 2-hour immersive workshop designed to melt away stress\, 
 awaken presence\, and invite joy back into your relationships. Whether you
  come with a friend\, family member\, or beloved\, this experience will gu
 ide you through mindful touch\, partner stretches\, playful poses\, and Th
 ai massage techniques that nourish body\, mind\, and soul.\n\nWe’ll clos
 e our journey by sharing a nurturing snack and spacious time to connect wi
 th the group — integrating the experience\, exchanging reflections\, and
  celebrating the sweetness of community.\n\n$125/ per two person\n\n&nbsp\
 ;\n\n&nbsp\;\nLocation: School Of Miracles\, Shiloh Road Morgantown PA 195
 43\nPreregistration is required.\n&nbsp\;\n\n&nbsp\;\n\nExact address give
 n at time of registration\n\n&nbsp\;\n\nFollow support and stay connected\
 n\n@schoolofmiracles\n\n@divineconduitchareejanelle\n\n&nbsp\;\n\nFacebook
 .com/DivineConduitchareehanelle\n\nWww.chareejanelle.com\n\nInfo@chareejan
 elle.com
ATTACH;FMTTYPE=image/jpeg:https://chareejanelle.com/wp-content/uploads/202
 5/11/Elevate-Your-Partner.jpg
LOCATION:School of Miracles\, 1191 shiloh road\, Morgantown \, Pennsylvania
 \, United States
GEO:40.178288;-75.917456
X-APPLE-STRUCTURED-LOCATION;VALUE=URI;X-ADDRESS=1191 shiloh road\, Morganto
 wn \, Pennsylvania\, United States;X-APPLE-RADIUS=100;X-TITLE=School of Mi
 racles:geo:40.178288,-75.917456
END:VEVENT
BEGIN:VTIMEZONE
TZID:America/New_York
X-LIC-LOCATION:America/New_York
BEGIN:STANDARD
DTSTART:20251102T010000
TZOFFSETFROM:-0400
TZOFFSETTO:-0500
TZNAME:EST
END:STANDARD
END:VTIMEZONE
END:VCALENDAR