BEGIN:VCALENDAR
VERSION:2.0
PRODID:-//wp-events-plugin.com//7.2.3.1//EN
TZID:America/New_York
X-WR-TIMEZONE:America/New_York
BEGIN:VEVENT
UID:92@chareejanelle.com
DTSTART;TZID=America/New_York:20231024T181500
DTEND;TZID=America/New_York:20231025T194500
DTSTAMP:20231023T140840Z
URL:https://chareejanelle.com/events-list/divine-spark/
SUMMARY:Divine Spark
DESCRIPTION:\n\n&nbsp\;\n\n&nbsp\;\n\n&nbsp\;\n\nthe Womb room for a 90 min
 ute Transformational Immersion of Holy Fire Reiki &amp\; Sound\n\nThis int
 egrative attunement experience brings you to complete balance and self-con
 nected wholeness. Holy Fire Reiki sound healing experience is offered as o
 pportunity to rest\, restore\, heal\, and core \, ignite the Divine Spark.
  This is so much more than a sound bath\, this immersive Holy Fire Reiki m
 editation sound healing experience brings your entire Being to balance nat
 urally as it includes alpha and theta states\, calming the mind &amp\; ope
 ning you to expand into higher levels of consciousness.\n\nCharee will gui
 de you into a Holy Fire III Healing Experience and as you surrender into t
 hat space\, Charee incorporates Crystal Bowls\, tuning forks\, Tibetan bow
 ls and chimes &amp\; other sacred instruments &amp\; sound\, including her
  toning &amp\; unique voice. This synergy of sound creates a extraordinary
  space for healing while also receiving the reiki energy.\n\nStudents repo
 rt powerful experiences\, healings\, clearings\, and releases\, activation
 s\, clarity &amp\; confirmed the Divine Spark being ignited within. One wo
 man reported connecting with her beloved husband who passed on years prior
 . Another reported to speaking light language for the first time\, another
  received very detailed outline on what her purpose and next steps were in
  life.\nCome open.\nHeart &amp\; Mind open.\nThis is permission to trust a
 nd surrender.\n\nWould love to share this experience with you and anyone e
 lse who is ready to ignite the Divine Spark.\n\nPlease note: This Holy Fir
 e Reiki Experience can be a catalyst for deep healing\, come prepared.\n\n
 The Sound Healing combined with Reiki along with Charees heart centered\, 
 soul aligned\, transformational leadership\, guidance\, along with over tw
 o decade's of experience holding space &amp\; guiding others back home to 
 their most authenticc Divine self will be truly transformational.\n\nWhat 
 to bring:\n\n- Yoga Mat\n- Water\n- Blanket (optional)\n- Pillow (optional
 )\n- Eye Pillow (optional)\n- Bolster (optional)\n- Crystals (Optional\n\n
 &nbsp\;\n\nCharees heart centered leadership\, purest intention\, will hav
 e you feeling seen\, heard\, witnessed\, held &amp\; loved.\n\n&nbsp\;\n\n
 Registration is needed as space is limited.\n\nRegister by 10/10\, $33.33\
 n\nRegister after 10/10\, $44.44\n\n&nbsp\;\n\n&nbsp\;\n\nonline registrat
 ion has closed.\n\nTo register please submit  your full name &amp\; email
  along with $44.44 via vemno https://venmo.com/u/MiraculousEnterprises\n\n
 &nbsp\;\n\n&nbsp\;\n\nPlease dont allow finances to prevent you from atten
 ding\, send me an email to info@chareejanelle.com to request funds\n\n&nbs
 p\;\n\ninfo@chareejanelle.com for registration link\n\n&nbsp\;\n\n&nbsp\;\
 n\n&nbsp\;\n\n&nbsp\;
CATEGORIES:Reiki,Sound
LOCATION:SoulCentered Wellness Center\, 2619 Leisczs Bridge Rd Ste.300\, Le
 esport\, PA\, 19533\, United States
GEO:40.389227;-75.980007
X-APPLE-STRUCTURED-LOCATION;VALUE=URI;X-ADDRESS=2619 Leisczs Bridge Rd Ste.
 300\, Leesport\, PA\, 19533\, United States;X-APPLE-RADIUS=100;X-TITLE=Sou
 lCentered Wellness Center:geo:40.389227,-75.980007
END:VEVENT
BEGIN:VTIMEZONE
TZID:America/New_York
X-LIC-LOCATION:America/New_York
BEGIN:DAYLIGHT
DTSTART:20230312T030000
TZOFFSETFROM:-0500
TZOFFSETTO:-0400
TZNAME:EDT
END:DAYLIGHT
END:VTIMEZONE
END:VCALENDAR