BEGIN:VCALENDAR
VERSION:2.0
PRODID:-//wp-events-plugin.com//7.2.3.1//EN
TZID:America/New_York
X-WR-TIMEZONE:America/New_York
BEGIN:VEVENT
UID:172@chareejanelle.com
DTSTART;TZID=America/New_York:20241012T193000
DTEND;TZID=America/New_York:20241012T203000
DTSTAMP:20241002T165509Z
URL:https://chareejanelle.com/events-list/divine-spark-3/
SUMMARY:Divine Spark
DESCRIPTION:Join Divine Conduit Charee Janelle in sacred space for a soul s
 ignature small group offering\n\n&nbsp\;\nIt would be an honor to have fam
 ilar &amp\; new faces\, friends\, and kindred spirits\, fill the Womb room
  with your beautiful energy\n&amp\; L❤️ve.\n&nbsp\;\n Read more detai
 ls on this Transformational SoulFire Immersion 👇👇👇\n&nbsp\;\nThis
  integrative attunement experience brings you to complete balance and self
 -connected wholeness. Holy Fire Reiki sound healing experience is offered 
 as an opportunity to rest\, restore\, heal\, and core \, ignite the Divine
  Spark. This is so much more than a sound bath\, this immersive Holy Fire 
 Reiki meditation sound healing experience brings your entire Being to bala
 nce naturally as it includes alpha and theta states\, calming the mind &am
 p\; opening you to expand into higher levels of consciousness.\n&nbsp\;\nC
 haree will guide you into a Holy Fire III Healing Experience\, and you onl
 y requirement is to show up &amp\; surrender into that space ( yes\, reall
 y)\n&nbsp\;\n Charee incorporates Crystal Bowls\, tuning forks\, Tibetan 
 bowls and chimes &amp\; other sacred instruments &amp\; sound\, including 
 her toning &amp\; unique voice. This synergy of sound creates a extraordin
 ary space for your healing\, while you also get to receive reiki energy.\n
 &nbsp\;\nStudents report powerful experiences\, healings\, clearings\, and
  releases\, activations\, clarity &amp\; confirmed the Divine Spark being 
 ignited within. One woman reported connecting with her beloved husband who
  passed on years prior. Another reported to speaking light language for th
 e first time\, another received very detailed outline on what her purpose 
 and next steps were in life.\nCome open.\nHeart &amp\; Mind open.\nThis is
  permission to trust and surrender.\n&nbsp\;\n Would love to share this e
 xperience with you and anyone else who is ready to ignite the Divine Spark
 .\n&nbsp\;\nPlease note: This Holy Fire Reiki Experience can be a catalyst
  for deep healing\, come prepared.\n&nbsp\;\nThe Sound Healing combined wi
 th Reiki along with Charees heart centered\, soul aligned\, transformation
 al leadership\, guidance\, along with over two decade's of experience hold
 ing space &amp\; guiding others back home to their most authentic Divine s
 elf will be truly transformational.\n&nbsp\;\nWhat to bring:\n Yoga Mat\n
 - Water\n  - Blanket (optional)\n- Pillow (optional)\n- Eye Pillow (optio
 nal)\n- Bolster (optional)\n- Crystals (Optional\n-journal ( optional)\n&n
 bsp\;\nCharees heart centered leadership\, purest intention\, will have yo
 u feeling seen\, heard\, witnessed\, held &amp\; loved.\n&nbsp\;\n\nRegist
 ration is needed as space is limited.\n\n&nbsp\;\n\nRegister by 10/10\, $3
 3.33\n\n&nbsp\;\n\n&nbsp\;\n\n\n\ninfo@chareejanelle.com for registration 
 link
ATTACH;FMTTYPE=image/jpeg:https://chareejanelle.com/wp-content/uploads/202
 4/10/Screenshot_20241002_125228_Facebook.jpg
CATEGORIES:Sound,Workshops
LOCATION:Charee Home Sanctuary\, 1191 shiloh road\, morgantown pa\, Pennsyl
 vania\, 19543\, United States
GEO:40.178621;-75.917988
X-APPLE-STRUCTURED-LOCATION;VALUE=URI;X-ADDRESS=1191 shiloh road\, morganto
 wn pa\, Pennsylvania\, 19543\, United States;X-APPLE-RADIUS=100;X-TITLE=Ch
 aree Home Sanctuary:geo:40.178621,-75.917988
END:VEVENT
BEGIN:VTIMEZONE
TZID:America/New_York
X-LIC-LOCATION:America/New_York
BEGIN:DAYLIGHT
DTSTART:20240310T030000
TZOFFSETFROM:-0500
TZOFFSETTO:-0400
TZNAME:EDT
END:DAYLIGHT
END:VTIMEZONE
END:VCALENDAR