BEGIN:VCALENDAR
VERSION:2.0
PRODID:-//wp-events-plugin.com//7.2.3.1//EN
TZID:America/New_York
X-WR-TIMEZONE:America/New_York
BEGIN:VEVENT
UID:227@chareejanelle.com
DTSTART;TZID=America/New_York:20250412T093000
DTEND;TZID=America/New_York:20250412T123000
DTSTAMP:20250407T030727Z
URL:https://chareejanelle.com/events-list/deep-dive-with-kundali-fire-onli
 ne-930-1230/
SUMMARY:Deep Dive Into Kundali Fire w/Tom & Charee (online 930-1230)
DESCRIPTION:Celebrate Spring 🌹 and experience the powerful healing of a 
 Master Reiki Healer and Amazing Kundalini Activation in one incredible jou
 rney.\n\n&nbsp\;\n\nJoin us for a transformative experience that unites th
 e power of Kundalini Activation 🐍 and Holy Fire Reiki 🔥 in a unique 
 event designed to elevate your spirit and heal your soul.  Kundalini Acti
 vation session will awaken your inner strength and unlock your full potent
 ial &amp\; Holy Fire Reiki session\, providing deep healing and a profound
  sense of peace. This sacred union of energies promises an unforgettable j
 ourney of balance\, empowerment\, and spiritual renewal. Don't miss this o
 pportunity to embrace the harmonious synergy of masculine and feminine ene
 rgies for a truly holistic transformation.\n\n&nbsp\;\n\n⚡️What is Kun
 dalini Activation?\n\n&nbsp\;\n\nIt involves the awakening of Kundalini en
 ergy to trigger the activation of your innate life force energy. This ener
 gy possesses its own intelligence and facilitates a secure and natural pro
 gression that adapts to your specific needs at any given moment.\n\n&nbsp\
 ;\n\nThis process relies on receiving an energy transmission rather than t
 rying to initiate it yourself. All that's necessary is for you to recline\
 , release tension in your body\, and be open to receiving the benefits of 
 this practice. It's a path of surrender\, contrasting with the will-driven
  approach of kundalini yoga\, and it offers the potential for healing\, he
 ightened states of consciousness\, and a deeper connection with both yours
 elf and those around you.\n\n&nbsp\;\n\n🔥What is Holy Fire Reiki?\n\n&n
 bsp\;\n\nHoly Fire Reiki is a powerful and refined form of Reiki energy th
 at is both gentle and deeply healing. It works on a profound spiritual lev
 el to cleanse\, purify\, and uplift the mind\, body\, and spirit. This hea
 ling practice is known for its ability to release deep-seated emotional bl
 ockages\, reduce stress and anxiety\, and promote a sense of inner peace a
 nd wellbeing. Participants often experience a greater connection to their 
 higher self\, enhanced clarity\, and a renewed sense of purpose. Holy Fire
  Reiki's transformative energy not only heals but also empowers individual
 s to embrace their true potential\, fostering a holistic sense of harmony 
 and balance in their lives.\n\n&nbsp\;\n\n⭐️About the Facilitators\n\n
 &nbsp\;\n\n💕Tom has been in the energy healing space for over 20 years\
 , first as a Reiki Master\, an energy modality he discovered while traveli
 ng to Australia. He also received energy transmissions through a Native Am
 erican Shaman while there\, who told him he was to be a spiritual leader o
 f his generation\, something he found difficult to believe at the time but
  has since come to accept as a sacred responsibility. He has spent years f
 acilitating his clients in his men's coaching business with Consciousness 
 Exercises to experience the 12 Stages of Healing\, from Suffering through 
 to Oneness. Recently adding this powerful Kundalini Activation modality to
  his toolkit he's excited to bring healing and enlightenment to those soul
 s that are ready to receive it.\n\n&nbsp\;\n\n✨️Charee is a Reiki mast
 er\, mentor\, intuitive channel\, transformational energy &amp\; movement 
 facilitator\, trained &amp\; professional dancer\, and mother to two of he
 r greatest teachers. Over the past twenty years\, she has served hundreds 
 of people from all walks of life with her soul-led\, heart-centered healin
 g\, compassion\, guidance\, and intuitive gifts. She provides signature sa
 cred services\, illuminating events &amp\; retreats\, Reiki training and c
 ertifications. Her mission is to empower transformation in the world by gu
 iding others to step up to their highest potential. She believes that with
 in each of us there is an inner wisdom that holds the answers to what is n
 eeded for our body\, mind\, and spirit—and she provides tools to access 
 them. When we master our minds\, emotions\, and energy\, we are empowered 
 to be the change we wish to see in the world.\n\n&nbsp\;\n\ncontact charee
  @\n\ninfo@chareejanelle.com\n\nWww.chareejanelle.com\n\nig @divineconduit
 chareejanelle\n\n&nbsp\;\n\ncontact Tom @\n\ntantra_tom@yahoo.com\n\nig @t
 ombucsku\n\n&nbsp\;\n\nInvestment $88\n\n&nbsp\;\n\n\n\n&nbsp\;
ATTACH;FMTTYPE=image/jpeg:https://chareejanelle.com/wp-content/uploads/202
 5/04/Screenshot_20250405_102033_Messages.jpg
CATEGORIES:Special guest,Workshops
END:VEVENT
BEGIN:VTIMEZONE
TZID:America/New_York
X-LIC-LOCATION:America/New_York
BEGIN:DAYLIGHT
DTSTART:20250309T030000
TZOFFSETFROM:-0500
TZOFFSETTO:-0400
TZNAME:EDT
END:DAYLIGHT
END:VTIMEZONE
END:VCALENDAR