BEGIN:VCALENDAR
VERSION:2.0
PRODID:-//wp-events-plugin.com//7.2.3.1//EN
TZID:America/New_York
X-WR-TIMEZONE:America/New_York
BEGIN:VEVENT
UID:207@chareejanelle.com
DTSTART;TZID=America/New_York:20241222T120000
DTEND;TZID=America/New_York:20241222T150000
DTSTAMP:20241125T223724Z
URL:https://chareejanelle.com/events-list/conscious-awakening-healing-the-
 heart-mastercass/
SUMMARY:Conscious Awakening Healing The Heart Mastercass
DESCRIPTION:WHO: Asttarte Deva &amp\; Charee Janelle\n\nWHERE: Charees Sacr
 ed Sanctuary\n\nWHAT: Conscious Awakening Healing The Heart Masterclass\n\
 n-Somatic Movement\, Somatic Meditation Therapy\, Breathwork\, Sound &amp\
 ; Channel\n\n&nbsp\;\n\nWHEN: Sunday 12/22/24 \, 12-3pm\n\n&nbsp\;\n\nAstt
 arte and Charee are offering a 3 hour Workshop incorporating their collect
 ive knowledge and experience as Practitioners and Teachers to help those b
 ecome more conscious and awake in their bodies and spirits. They are dedic
 ated to open and heal hearts during this massive grand transition of the c
 ollective consciousness to bring more love\, peace and unity to the planet
 . Together\, they weave their embodied wisdom with combined efforts of int
 uition\, spirituality\, somatic therapies\, meditation\, breathwork\, and 
 sound\, to inspire\, release\, heal and empower.\n\n&nbsp\;\n\nInvestment:
  $77\n\nEarly bird $44 through November\n\n&nbsp\;\n\nREGISTRATION IS REQU
 IRED &amp\; SPACE IS LIMITED\n\n&nbsp\;\n\nPlease register here 👇\n\n
 🔗 https://chareejanelle.as.me/?appointmentType=71289773\n\n&nbsp\;\n\n&
 nbsp\;
ATTACH;FMTTYPE=image/jpeg:https://chareejanelle.com/wp-content/uploads/202
 4/11/Screenshot_20241125_173219_Messages.jpg
CATEGORIES:Relationship,Special guest,Workshops
LOCATION:charees Sacred Sanctuary\, 123 miracle way\, morgantown pa\, Pa\, 
 19543\, United States
GEO:40.155285;-75.889941
X-APPLE-STRUCTURED-LOCATION;VALUE=URI;X-ADDRESS=123 miracle way\, morgantow
 n pa\, Pa\, 19543\, United States;X-APPLE-RADIUS=100;X-TITLE=charees Sacre
 d Sanctuary:geo:40.155285,-75.889941
END:VEVENT
BEGIN:VTIMEZONE
TZID:America/New_York
X-LIC-LOCATION:America/New_York
BEGIN:STANDARD
DTSTART:20241103T010000
TZOFFSETFROM:-0400
TZOFFSETTO:-0500
TZNAME:EST
END:STANDARD
END:VTIMEZONE
END:VCALENDAR