BEGIN:VCALENDAR
VERSION:2.0
PRODID:-//wp-events-plugin.com//7.2.3.1//EN
TZID:America/New_York
X-WR-TIMEZONE:America/New_York
BEGIN:VEVENT
UID:148@chareejanelle.com
DTSTART;TZID=America/New_York:20241006T100000
DTEND;TZID=America/New_York:20241006T150000
DTSTAMP:20240719T051050Z
URL:https://chareejanelle.com/events-list/connecting-with-loved-ones-on-th
 e-other-side-11-mediumship-readings-with-barbara/
SUMMARY:Connecting With Loved Ones On The Other Side/1:1 Mediumship reading
 s with Barbara
DESCRIPTION:\n\n&nbsp\;\nConnect With Loved Ones On The Other Side Through 
 Mediumship w/Barbara Ann Veronica\n&nbsp\;\nBarbara has been an intuitive 
 since a child. While studying as a nurse later in life she benefited by 
 “knowing” certain aspects of her patients! However she didn’t pursue
  the mediumship gifts until she was age 60 after an attunement with a gift
 ed mentor. She then studied for 3 intensive years at Lily Dale!\nBarbara h
 as used her gifts to help others heal and find peace after traumatic death
 s and often connect loved one with each other after a time of concern with
  a passing!\n&nbsp\;\nBarbara has been giving Mediumship Readings for clie
 nts for  10 years which can be very healing to both the earth plane perso
 n and the spirit on the other side!\nBarbara prefers meeting with  her cl
 ients 1:1\n&nbsp\;\nBarbara’s readings do not involve predictions about 
 one’s finances &amp\; future connections.\n&nbsp\;\n30- minute sessions
  available.\n&nbsp\;\n I have been hosting Barbara here for the community
  every few months since 2023.\nShe is an exceptional woman\, soul friend\,
  an 'All Knowing Prophet.'\n&nbsp\;\nDATE : Sunday\, October 6th\nTIME: 30
  minute readings available\n&nbsp\;\nREGISTRATION:\nYou must register in o
 rder to  reserve your spot\nEmail Charee (please NO TEXT ) at info@charee
 janelle.com with your name and selected time preference from times listed 
 below. Please give 1st and 2nd choice.\n&nbsp\;\n I was given strict inst
 ructions not to give her contact information out.\nThese times will book f
 ast!!\n&nbsp\;\n         TIMES AVAILABLE:\n                 
                               10:10 AM -  10:45 AM  - 11:
 20 AM   -11:50 AM   \n\n                              
                   -12:25 PM   -1:00 PM   -1:35 PM     -2:1
 0 PM- Booked\n\n&nbsp\;\nOnce your email is received with requested time\,
  please allow 48 hours for response email and confirmation of time.\nThank
  You Kindly\n&nbsp\;\n\n&nbsp\;\n\n&nbsp\;\n\n&nbsp\;\n\n&nbsp\;
ATTACH;FMTTYPE=image/jpeg:https://chareejanelle.com/wp-content/uploads/202
 4/03/Screenshot_20240312_090908_Chrome.jpg
CATEGORIES:GUEST WORKSHOP,Mediumship,Special guest,Workshops
END:VEVENT
BEGIN:VTIMEZONE
TZID:America/New_York
X-LIC-LOCATION:America/New_York
BEGIN:DAYLIGHT
DTSTART:20240310T030000
TZOFFSETFROM:-0500
TZOFFSETTO:-0400
TZNAME:EDT
END:DAYLIGHT
END:VTIMEZONE
END:VCALENDAR