BEGIN:VCALENDAR
VERSION:2.0
PRODID:-//wp-events-plugin.com//7.2.3.1//EN
TZID:America/New_York
X-WR-TIMEZONE:America/New_York
BEGIN:VEVENT
UID:95@chareejanelle.com
DTSTART;TZID=America/New_York:20231104T114500
DTEND;TZID=America/New_York:20231104T153000
DTSTAMP:20231030T181336Z
URL:https://chareejanelle.com/events-list/connecting-with-loved-ones-mediu
 mship-special-guest/
SUMMARY:Connecting With Loved Ones -Mediumship special guest
DESCRIPTION:Connect To Loved Ones on the Other Side Through Mediumship with
  Barbara Ann Veronica hosted by Charee Janelle.\n\nBarbara has been an int
 uitive since a child. While studying as a nurse later in life she benefite
 d by “knowing” certain aspects of her patients! However she didn’t p
 ursue the mediumship gifts until she was age 60 after an attunement with a
  gifted mentor. She then studied for 3 intensive years at Lily Dale!\nBarb
 ara has used her gifts to help others heal and find peace after traumatic 
 deaths and often connect loved one with each other after a time of concern
  with a passing!\nBarbara has been giving Mediumship Readings for clients 
 for 6 years which can be very healing to both the earth plane person and t
 he spirit on the other side! The connections are 1:1 sessions due to the c
 onfidentiality of the messages.\n\nBarbara’s readings do not involve psy
 chic predictions about one’s finances or other future connections.\n\nPr
 e registration is required\nSpace is very limited\n\nSaturday November 4th
  \n\n20 minute sessions are available\n\nhttps://chareejanelle.as.me/?appo
 intmentType=54400383\n\n30 minute session available\n\nhttps://chareejanel
 le.as.me/?appointmentType=54400316\n\n&nbsp\;\n\nAlso option to add on 15 
 minutechakra balance with Charee
ATTACH;FMTTYPE=image/jpeg:https://chareejanelle.com/wp-content/uploads/202
 3/10/Screenshot_20231025_193047_Facebook.jpg
CATEGORIES:Workshops
END:VEVENT
BEGIN:VTIMEZONE
TZID:America/New_York
X-LIC-LOCATION:America/New_York
BEGIN:DAYLIGHT
DTSTART:20230312T030000
TZOFFSETFROM:-0500
TZOFFSETTO:-0400
TZNAME:EDT
END:DAYLIGHT
END:VTIMEZONE
END:VCALENDAR