BEGIN:VCALENDAR
VERSION:2.0
PRODID:-//wp-events-plugin.com//7.2.3.1//EN
TZID:America/New_York
X-WR-TIMEZONE:America/New_York
BEGIN:VEVENT
UID:138@chareejanelle.com
DTSTART;TZID=America/New_York:20240414T150000
DTEND;TZID=America/New_York:20240414T190000
DTSTAMP:20240313T215228Z
URL:https://chareejanelle.com/events-list/connecting-with-loved-ones-11-me
 diumship-readings/
SUMMARY:Connecting With Loved Ones/ 1:1 Mediumship Readings
DESCRIPTION:Connect To Loved Ones on the Other Side Through Mediumship with
  \n      Barbara Ann Veronica\n\n&nbsp\;\n\n&nbsp\;\nBarbara has been a
 n intuitive since a child. While studying as a nurse later in life she ben
 efited by “knowing” certain aspects of her patients! However she didn
 ’t pursue the mediumship gifts until she was age 60 after an attunement 
 with a gifted mentor. She then studied for 3 intensive years at Lily Dale!
 \nBarbara has used her gifts to help others heal and find peace after trau
 matic deaths and often connect loved one with each other after a time of c
 oncern with a passing!\nBarbara has been giving Mediumship Readings for cl
 ients for 6 years which can be very healing to both the earth plane person
  and the spirit on the other side! Barbara meets with her clients 1:1\nBar
 bara’s readings do not involve psychic predictions about one’s finance
 s or other future connections.\n30- minute sessions available \nSpace is 
 limited so pre-registration is required.\nLast month's was truly extraordi
 nary &amp\; I am so happy to host her again as she shares her gifts with y
 ou.\nPre registration is required\n&nbsp\;\n  Register ➡️ https://cha
 reejanelle.as.me/?appointmentType=54543255\nOnce registered Charee will se
 nd you your time options. \n&nbsp\;\n\n&nbsp\;\n\n&nbsp\;
ATTACH;FMTTYPE=image/jpeg:https://chareejanelle.com/wp-content/uploads/202
 4/03/Screenshot_20240312_090908_Chrome.jpg
CATEGORIES:Mediumship
LOCATION:Charee Home Shala\, 1191 shiloh road\, morgantown pa\, Pennsylvani
 a\, 19543\, United States
GEO:40.178621;-75.917988
X-APPLE-STRUCTURED-LOCATION;VALUE=URI;X-ADDRESS=1191 shiloh road\, morganto
 wn pa\, Pennsylvania\, 19543\, United States;X-APPLE-RADIUS=100;X-TITLE=Ch
 aree Home Shala:geo:40.178621,-75.917988
END:VEVENT
BEGIN:VTIMEZONE
TZID:America/New_York
X-LIC-LOCATION:America/New_York
BEGIN:DAYLIGHT
DTSTART:20240310T030000
TZOFFSETFROM:-0500
TZOFFSETTO:-0400
TZNAME:EDT
END:DAYLIGHT
END:VTIMEZONE
END:VCALENDAR