BEGIN:VCALENDAR
VERSION:2.0
PRODID:-//wp-events-plugin.com//7.2.3.1//EN
TZID:America/New_York
X-WR-TIMEZONE:America/New_York
BEGIN:VEVENT
UID:147@chareejanelle.com
DTSTART;TZID=America/New_York:20240529T173000
DTEND;TZID=America/New_York:20240529T183000
DTSTAMP:20240426T163815Z
URL:https://chareejanelle.com/events-list/community-sound-sessions-4youth-
 teen/
SUMMARY:Community Sound Sessions 4Youth/Teen
DESCRIPTION:\n\n\n\n\n\n\n\n\n\n\n\n\n\n🌻COMMUNITY SOUND SESSIONS🌻\n
 \n      🐰For youth\, tweens &amp\; teens 🐰\n\n&nbsp\;\n\nTo heal 
 is to feel whole no matter what we are going through\, love and accept our
 selves in the present moment\, hold space for what we need.\nSome of us co
 me to this realisation after years of trying to find health and happiness 
 outside of ourselves. It is often in our adulthood that we discover self-l
 ove begins wiithin.\nImagine if we had been taught this early on and knew 
 it from the get-go?\n\n&nbsp\;\n\nwhat will they learn in this program? \
 n\n🌟Your voice is your power\, what you say matters\, how you say it ma
 tters more\n\n🌟Sound healing isn’t making noise it’s making connect
 ion\n\n🌟Sound healing is soul cleansing\n\n🌟Light and Sound are inte
 rwoven in the Language of Life\n\n🌟Music is sound of the soul\n\n🌟 I
 t is safe to express\n\n🌟 Your emotions &amp\; feelings are valid\n\n
 🌟 Connecting with others is essential to building fostering relationshi
 ps\n\n🌟 Embrace Wonderment &amp\; Curiosity\n\n🌟 Mindfulness\, Vibra
 tional &amp\;  Sound Therapy help decrease stress\, depression\, anxiety 
 &amp\; pain\n\n&nbsp\;\n\nMORE DETAILS \n\n&nbsp\;\n\n🌻The first Sound
  Sessions 4Youth &amp\; Tween will take place on Wednesday May 29th 5:30pm
  -6:30pm at my home sanctuary\, nestled in the woods of Berks County.\n\nA
 ddress will be given at the time of registration\n\nREGISTRATION\n\n⬇️
 \n\n🌻Please submit your child’s Information (name\, age\, school dist
 rict) along with your full name &amp\; contact information via email at in
 fo@chareejanelle.com\n\n&nbsp\;\n\n🌻 Registration closes 24 hrs prior t
 o class or when we are full [ whichever comes 1st]\n\n🌻 This community 
 love offering is a gift from Divine. Donations are graciously accepted [bu
 t not required]\, can be made through Butterfly Scholarship Fund🦋\n\n
 ⬇️⬇️⬇️\n\nhttps://chareejanelle.com/butterfly-scholarship-fund
 /\n\n&nbsp\;\n\n\n\n\n\n\n
ATTACH;FMTTYPE=image/jpeg:https://chareejanelle.com/wp-content/uploads/202
 4/04/Screenshot_20240423_083330_Gallery.jpg
CATEGORIES:Kids,Kids/family,Sound
END:VEVENT
BEGIN:VTIMEZONE
TZID:America/New_York
X-LIC-LOCATION:America/New_York
BEGIN:DAYLIGHT
DTSTART:20240310T030000
TZOFFSETFROM:-0500
TZOFFSETTO:-0400
TZNAME:EDT
END:DAYLIGHT
END:VTIMEZONE
END:VCALENDAR