BEGIN:VCALENDAR
VERSION:2.0
PRODID:-//wp-events-plugin.com//7.2.3.1//EN
TZID:America/New_York
X-WR-TIMEZONE:America/New_York
BEGIN:VEVENT
UID:146@chareejanelle.com
DTSTART;TZID=America/New_York:20240424T173000
DTEND;TZID=America/New_York:20240424T182500
DTSTAMP:20240423T123650Z
URL:https://chareejanelle.com/events-list/community-sound-sessions-4-youth
 tweens/
SUMMARY:COMMUNITY SOUND SESSIONS 4 Youth&Tweens
DESCRIPTION:🌻COMMUNITY SOUND SESSIONS🌻\n\n      🐰For youth\, tw
 eens &amp\; teens 🐰\n\n&nbsp\;\n\nTo heal is to feel whole no matter wh
 at we are going through\, love and accept ourselves in the present moment\
 , hold space for what we need.\nSome of us come to this realisation after 
 years of trying to find health and happiness outside of ourselves. It is o
 ften in our adulthood that we discover self-love begins wiithin.\nImagine 
 if we had been taught this early on and knew it from the get-go?\n\n&nbsp\
 ;\n\nwhat will they learn in this program? \n\n🌟Your voice is your pow
 er\, what you say matters\, how you say it matters more\n\n🌟Sound heali
 ng isn't making noise it's making connection\n\n🌟Sound healing is soul 
 cleansing\n\n🌟Light and Sound are interwoven in the Language of Life\n\
 n🌟Music is sound of the soul\n\n🌟 It is safe to express\n\n🌟 Your
  emotions &amp\; feelings are valid\n\n🌟 Connecting with others is esse
 ntial to building fostering relationships\n\n🌟 Embrace Wonderment &amp\
 ; Curiosity\n\n🌟 Mindfulness\, Vibrational &amp\;  Sound Therapy help 
 decrease stress\, depression\, anxiety &amp\; pain\n\n&nbsp\;\n\nMORE DETA
 ILS \n\n&nbsp\;\n\n🌻The first Sound Sessions 4Youth &amp\; Tween will 
 take place on Wednesday April 24th 5:30pm -6:30pm at my home sanctuary\, n
 estled in the woods of Berks County.  Address will be given at the time o
 f registration\n\nREGISTRATION\n\n⬇️\n\n🌻Please submit your child's
  Information (name\, age\, school district) along with your full name &amp
 \; contact information via email at info@chareejanelle.com\n\n&nbsp\;\n\n
 🌻 Registration closes 24 hrs prior to class or when we are full [ which
 ever comes 1st]\n\n🌻 This community love offering is a gift from Divine
 . Donations are graciously accepted [but not required]\, can be made throu
 gh Butterfly Scholarship Fund🦋\n\n⬇️⬇️⬇️\n\nhttps://chareej
 anelle.com/butterfly-scholarship-fund/\n\n&nbsp\;\n\n&nbsp\;\n\n&nbsp\;\n\
 n&nbsp\;
CATEGORIES:Kids,Kids/family,Sound
LOCATION:charee home sanctuary\, 123 miracle way \, Morgantown \, Pa\, 1954
 3\, United States
GEO:40.155285;-75.889941
X-APPLE-STRUCTURED-LOCATION;VALUE=URI;X-ADDRESS=123 miracle way \, Morganto
 wn \, Pa\, 19543\, United States;X-APPLE-RADIUS=100;X-TITLE=charee home sa
 nctuary:geo:40.155285,-75.889941
END:VEVENT
BEGIN:VTIMEZONE
TZID:America/New_York
X-LIC-LOCATION:America/New_York
BEGIN:DAYLIGHT
DTSTART:20240310T030000
TZOFFSETFROM:-0500
TZOFFSETTO:-0400
TZNAME:EDT
END:DAYLIGHT
END:VTIMEZONE
END:VCALENDAR