BEGIN:VCALENDAR
VERSION:2.0
PRODID:-//wp-events-plugin.com//7.2.3.1//EN
TZID:America/New_York
X-WR-TIMEZONE:America/New_York
BEGIN:VEVENT
UID:246@chareejanelle.com
DTSTART;TZID=America/New_York:20250629T143000
DTEND;TZID=America/New_York:20250629T163000
DTSTAMP:20250628T140423Z
URL:https://chareejanelle.com/events-list/community-reiki-share-potluck/
SUMMARY:Community Reiki Share + Potluck
DESCRIPTION:Hello beautiful souls.\nIt's that time.\n\nAre you a Reiki prac
 titioner who is in need of self-care? Are you looking to connect with othe
 r like minded heart centered healers?\nEveryone will have the opportunity 
 to both give &amp\; receive Reiki.\nLet us support eachother in filling fi
 rst our own cup &amp\; sharing &amp\; supporting each in their own journey
  &amp\; giving support &amp\; love along the way.\nThis gathering invites 
 you to be loving and accepting of each owns individual experience and an o
 pportunity to energize\, uplift\, inspire\, empower &amp\; support one ano
 ther.\n\n🤍Registration closes 48 hrs prior\n\n🤍Please register ( ins
 tructions below)\n\n🤍Water\, tea &amp\; coffee provided\n\n🤍 Please 
 bring an open heart &amp\; open mind &amp\; a healthy dish to share\n\n
 🤍Address will be given once registered &amp\; you will be added to What
 sApp group\n\n📆Sunday June 29th\n⏰️2:30 pm -4:30pm\n\nHow Do I Regi
 ster?\n\n🦋Please make your love donation via butterfly scholarship fund
  🦋🦋\n\n🦋In the NOTE section include your full name &amp\; phone #
  + "June Reiki Shar\n\n&nbsp\;\n\n&nbsp\;\n\n&nbsp\;\n\n~🦋There is a dr
 op down button for the butterfly scholarship fund. You can enter any amoun
 t you want to donate towards the fund.\n\n~🦋 You will receive a link fo
 r whatsapp please join\n\n&nbsp\;\n\n\n\nYour contribution is very much ap
 preciated &amp\; goes back into tbe community to help support provide heal
 ing &amp\; transformational services.\n\n&nbsp\;\n\n&nbsp\;\n\n&nbsp\;\n\n
 &nbsp\;\n\nThank you!\n\nMiraculous Transformations Are Your Birthright!!\
 n\nBlessings\,\n\nCharee
ATTACH;FMTTYPE=image/jpeg:https://chareejanelle.com/wp-content/uploads/202
 3/12/Screenshot_20231215_023620_Gallery-1.jpg
CATEGORIES:Reiki
END:VEVENT
BEGIN:VTIMEZONE
TZID:America/New_York
X-LIC-LOCATION:America/New_York
BEGIN:DAYLIGHT
DTSTART:20250309T030000
TZOFFSETFROM:-0500
TZOFFSETTO:-0400
TZNAME:EDT
END:DAYLIGHT
END:VTIMEZONE
END:VCALENDAR