BEGIN:VCALENDAR
VERSION:2.0
PRODID:-//wp-events-plugin.com//7.2.3.1//EN
TZID:America/New_York
X-WR-TIMEZONE:America/New_York
BEGIN:VEVENT
UID:87@chareejanelle.com
DTSTART;TZID=America/New_York:20230819T130000
DTEND;TZID=America/New_York:20230819T143000
DTSTAMP:20230811T142701Z
URL:https://chareejanelle.com/events-list/cocoon-sound-bath/
SUMMARY:Cocoon Sound Bath
DESCRIPTION:\nCharee invites you to normalize going into a healing cocoon w
 here you will receive the ultimate invite to relax &amp\; tune into your i
 nner sanctuary of peace. Relax and restore while being gently cradled in a
  comfortable hammock of soft silks and being bathed in the healing vibrati
 ons of sound!\n\nDuring a Cocoon Sound Bath\, you cozy up with a blanket a
 nd pillow while being suspended inside yoga aerial silks. Charee strikes a
  gong to emphasize intentional moments during the session along with playi
 ng singing bowls &amp\; other sacred instruments.\n\nThe sound produced is
  a sacred portal through which you become more aware of your thoughts and 
 feelings. You begin to realize your infinite potential and enjoy emotional
  release and pain relief.\n\nThe womb-like feeling of floating combined wi
 th the soothing sound vibrations of the gong and sound bowls is an immersi
 ve healing experience. You’ll come away feeling calmer\, happier\, more 
 connected to your soul essence\, and with a greater sense of well-being.\n
 \nPlease wear non-constricting\, light-weight clothing and socks for your 
 comfort. Absolutely no effort is required. Show up\, rest and receive.\n&n
 bsp\;\n\n\n\n&nbsp\;\n\n&nbsp\;\n\n&nbsp\;\n\n&nbsp\;\n\nhttps://bldg7yoga
 .com/events/workshops/
CATEGORIES:Cocoon Gong Bath,Sound,Workshops
LOCATION:Bldg7yoga\, 220 north park \, Wyomissing \, Pa\, United States
GEO:40.33939;-75.958344
X-APPLE-STRUCTURED-LOCATION;VALUE=URI;X-ADDRESS=220 north park \, Wyomissin
 g \, Pa\, United States;X-APPLE-RADIUS=100;X-TITLE=Bldg7yoga:geo:40.33939,
 -75.958344
END:VEVENT
BEGIN:VTIMEZONE
TZID:America/New_York
X-LIC-LOCATION:America/New_York
BEGIN:DAYLIGHT
DTSTART:20230312T030000
TZOFFSETFROM:-0500
TZOFFSETTO:-0400
TZNAME:EDT
END:DAYLIGHT
END:VTIMEZONE
END:VCALENDAR