BEGIN:VCALENDAR
VERSION:2.0
PRODID:-//wp-events-plugin.com//7.2.3.1//EN
TZID:America/New_York
X-WR-TIMEZONE:America/New_York
BEGIN:VEVENT
UID:89@chareejanelle.com
DTSTART;TZID=America/New_York:20230923T130000
DTEND;TZID=America/New_York:20230923T143000
DTSTAMP:20230913T135534Z
URL:https://chareejanelle.com/events-list/cocoon-sound-bath-at-bldg7/
SUMMARY:Cocoon Sound Bath at Bldg7
DESCRIPTION:\n\n&nbsp\;\n\nCharee invites you to normalize going into a hea
 ling cocoon where you will receive the ultimate invite to relax &amp\; tun
 e into your inner sanctuary of peace. Relax and restore while being gently
  cradled in a comfortable hammock of soft silks and being bathed in the he
 aling vibrations of sound!\n\nDuring a Cocoon Sound Bath\, you cozy up wit
 h a blanket and pillow while being suspended inside yoga aerial silks. Cha
 ree strikes a gong to emphasize intentional moments during the session alo
 ng with playing singing bowls &amp\; other sacred instruments.\n\nThe soun
 d produced is a sacred portal through which you become more aware of your 
 thoughts and feelings. You begin to realize your infinite potential and en
 joy emotional release and pain relief.\n\nThe womb-like feeling of floatin
 g combined with the soothing sound vibrations of the gong and sound bowls 
 is an immersive healing experience. You’ll come away feeling calmer\, ha
 ppier\, more connected to your soul essence\, and with a greater sense of 
 well-being.\n\nPlease wear non-constricting\, light-weight clothing and so
 cks for your comfort. Absolutely no effort is required. Show up\, rest and
  receive.\n\n&nbsp\;\n\n&nbsp\;\n\nhttp://Bldg7yoga.com
ATTACH;FMTTYPE=image/jpeg:https://chareejanelle.com/wp-content/uploads/202
 3/09/Screenshot_20230913_094522_Facebook-1.jpg
CATEGORIES:Cocoon Gong Bath
LOCATION:Bldg7yoga\, 220 north park \, Wyomissing \, Pa\, United States
GEO:40.33939;-75.958344
X-APPLE-STRUCTURED-LOCATION;VALUE=URI;X-ADDRESS=220 north park \, Wyomissin
 g \, Pa\, United States;X-APPLE-RADIUS=100;X-TITLE=Bldg7yoga:geo:40.33939,
 -75.958344
END:VEVENT
BEGIN:VTIMEZONE
TZID:America/New_York
X-LIC-LOCATION:America/New_York
BEGIN:DAYLIGHT
DTSTART:20230312T030000
TZOFFSETFROM:-0500
TZOFFSETTO:-0400
TZNAME:EDT
END:DAYLIGHT
END:VTIMEZONE
END:VCALENDAR