BEGIN:VCALENDAR
VERSION:2.0
PRODID:-//wp-events-plugin.com//7.2.3.1//EN
TZID:America/New_York
X-WR-TIMEZONE:America/New_York
BEGIN:VEVENT
UID:164@chareejanelle.com
DTSTART;TZID=America/New_York:20250124T191500
DTEND;TZID=America/New_York:20250124T210000
DTSTAMP:20250118T214128Z
URL:https://chareejanelle.com/events-list/candlelit-restore-reiki-sound-ni
 dra-2/
SUMMARY:CANDLELIT RESTORE\, REIKI\, SOUND + NIDRA
DESCRIPTION:CANDLELIT RESTORE\, REIKI\, NIDRA + SOUND \nIn today's fast pa
 ced world of striving\, doing &amp\; going it's very important to create s
 pace of stillness &amp\; rest. With great focus on restoring the mind\, bo
 dy &amp\; spirit\, through  strengthening the nervous system by deep rest
 \, one will discover- rediscover a renewed connection with Self.\n\n My 
  intentions are always to guide you back home to your most authentic self\
 , help you remember who you are\, who you truly are.  To be a safe sacred
  container of love\, light\, divine wisdom\n\n\nThese modalities  have th
 e power to restore and reinvigorate your inner landscape\, bringing a prof
 ound sense of tranquility and serenity.\nThrough loving touch and energy t
 ransfer\, your spiritual essence aligns with the universal flow\, melting 
 away the stresses and burdens that weigh upon you.\n\n These practices he
 lp support :\nDepression\nStress\nFatigue\nChronic pain\nOverall mental cl
 arity\nAnd much more.\n\n May this offering give you exactly what you nee
 d and more.\n\n\n\nCome fill thy cup\nIn today's fast paced world of striv
 ing\, doing &amp\; going it's very important to create space of stillness 
 &amp\; rest. With great focus on restoring the mind\, body &amp\; spirit\,
  through  strengthening the nervous system by deep rest\, one will discov
 er- rediscover a renewed connection with Self.\n\n My  intentions are al
 ways to guide you back home to your most authentic self\, help you remembe
 r who you are\, who you truly are.  To be a safe sacred container of love
 \, light\, divine wisdom\n\n\nThese modalities  have the power to restore
  and reinvigorate your inner landscape\, bringing a profound sense of tran
 quility and serenity.\nThrough loving touch and energy transfer\, your spi
 ritual essence aligns with the universal flow\, melting away the stresses 
 and burdens that weigh upon you.\n\n These practices help support :\nDepr
 ession\nStress\nFatigue\nChronic pain\nOverall mental clarity\nAnd much mo
 re.\n\n May this offering give you exactly what you need and more.\n\n\n\
 nCome fill thy cup\nIn today's fast paced world of striving\, doing &amp\;
  going it's very important to create space of stillness &amp\; rest. With 
 great focus on restoring the mind\, body &amp\; spirit\, through  strengt
 hening the nervous system by deep rest\, one will discover- rediscover a r
 enewed connection with Self.\n\n My  intentions are always to guide you 
 back home to your most authentic self\, help you remember who you are\, wh
 o you truly are.  To be a safe sacred container of love\, light\, divine 
 wisdom\n\n\nThese modalities  have the power to restore and reinvigorate 
 your inner landscape\, bringing a profound sense of tranquility and sereni
 ty.\nThrough loving touch and energy transfer\, your spiritual essence ali
 gns with the universal flow\, melting away the stresses and burdens that w
 eigh upon you.\n\n These practices help support :\nDepression\nStress\nFa
 tigue\nChronic pain\nOverall mental clarity\nAnd much more.\n\n May this 
 offering give you exactly what you need and more.\n\n\n\nCome fill thy cup
 \nIn today's fast paced world of striving\, doing &amp\; going it's very i
 mportant to create space of stillness &amp\; rest. With great focus on res
 toring the mind\, body &amp\; spirit\, through  strengthening the nervous
  system by deep rest\, one will discover- rediscover a renewed connection 
 with Self.\n\n My  intentions are always to guide you back home to your 
 most authentic self\, help you remember who you are\, who you truly are. 
  To be a safe sacred container of love\, light\, divine wisdom\n\n\nThese 
 modalities  have the power to restore and reinvigorate your inner landsca
 pe\, bringing a profound sense of tranquility and serenity.\nThrough lovin
 g touch and energy transfer\, your spiritual essence aligns with the unive
 rsal flow\, melting away the stresses and burdens that weigh upon you.\n\n
  These practices help support :\nDepression\nStress\nFatigue\nChronic pai
 n\nOverall mental clarity\nAnd much more.\n\n May this offering give you 
 exactly what you need and more.\n\n\n\nCome fill thy cup\nIn today's fast 
 paced world of striving\, doing &amp\; going it's very important to create
  space of stillness &amp\; rest. With great focus on restoring the mind\, 
 body &amp\; spirit\, through  strengthening the nervous system by deep re
 st\, one will discover- rediscover a renewed connection with Self.\n\n My
   intentions are always to guide you back home to your most authentic sel
 f\, help you remember who you are\, who you truly are.  To be a safe sacr
 ed container of love\, light\, divine wisdom\n\n\nThese modalities  have 
 the power to restore and reinvigorate your inner landscape\, bringing a pr
 ofound sense of tranquility and serenity.\nThrough loving touch and energy
  transfer\, your spiritual essence aligns with the universal flow\, meltin
 g away the stresses and burdens that weigh upon you.\n\n These practices 
 help support :\nDepression\nStress\nFatigue\nChronic pain\nOverall mental 
 clarity\nAnd much more.\n\n May this offering give you exactly what you n
 eed and more.\n\n\n\nCome fill thy cup\nIn today's fast paced world of str
 iving\, doing &amp\; going it's very important to create space of stillnes
 s &amp\; rest. With great focus on restoring the mind\, body &amp\; spirit
 \, through  strengthening the nervous system by deep rest\, one will disc
 over- rediscover a renewed connection with Self.\n\n My  intentions are 
 always to guide you back home to your most authentic self\, help you remem
 ber who you are\, who you truly are.  To be a safe sacred container of lo
 ve\, light\, divine wisdom\n\n\nThese modalities  have the power to resto
 re and reinvigorate your inner landscape\, bringing a profound sense of tr
 anquility and serenity.\nThrough loving touch and energy transfer\, your s
 piritual essence aligns with the universal flow\, melting away the stresse
 s and burdens that weigh upon you.\n\n These practices help support :\nDe
 pression\nStress\nFatigue\nChronic pain\nOverall mental clarity\nAnd much 
 more.\n\n May this offering give you exactly what you need and more.\n\n\
 n\nCome fill thy cup\nIn today's fast paced world of striving\, doing &amp
 \; going it's very important to create space of stillness &amp\; rest. Wit
 h great focus on restoring the mind\, body &amp\; spirit\, through  stren
 gthening the nervous system by deep rest\, one will discover- rediscover a
  renewed connection with Self.\n\n My  intentions are always to guide yo
 u back home to your most authentic self\, help you remember who you are\, 
 who you truly are.  To be a safe sacred container of love\, light\, divin
 e wisdom\n\n\nThese modalities  have the power to restore and reinvigorat
 e your inner landscape\, bringing a profound sense of tranquility and sere
 nity.\nThrough loving touch and energy transfer\, your spiritual essence a
 ligns with the universal flow\, melting away the stresses and burdens that
  weigh upon you.\n\n These practices help support :\nDepression\nStress\n
 Fatigue\nChronic pain\nOverall mental clarity\nAnd much more.\n\n May thi
 s offering give you exactly what you need and more.\n\n\n\nCome fill thy c
 up\nIn today's fast paced world of striving\, doing &amp\; going it's very
  important to create space of stillness &amp\; rest. With great focus on r
 estoring the mind\, body &amp\; spirit\, through  strengthening the nervo
 us system by deep rest\, one will discover- rediscover a renewed connectio
 n with Self.\n\n My  intentions are always to guide you back home to you
 r most authentic self\, help you remember who you are\, who you truly are.
   To be a safe sacred container of love\, light\, divine wisdom\n\n\nThes
 e modalities  have the power to restore and reinvigorate your inner lands
 cape\, bringing a profound sense of tranquility and serenity.\nThrough lov
 ing touch and energy transfer\, your spiritual essence aligns with the uni
 versal flow\, melting away the stresses and burdens that weigh upon you.\n
 \n These practices help support :\nDepression\nStress\nFatigue\nChronic p
 ain\nOverall mental clarity\nAnd much more.\n\n May this offering give yo
 u exactly what you need and more.\n\nCome fill thy cup\;\n\n\n\n\n\n\n\n&n
 bsp\;\n\nplease register to ensure your spot.                   
                        ⏬️⏬️⏬️\n\nhttps://momence.co
 m/s/100360743
ATTACH;FMTTYPE=image/jpeg:https://chareejanelle.com/wp-content/uploads/202
 4/05/Screenshot_20240503_093336_Facebook.jpg
CATEGORIES:Reiki,Sound,Yoga
LOCATION:hot yoga west reading\, 120 south 3rd Avenue \, Reading \, Pa \, U
 nited States
GEO:40.333605;-75.944306
X-APPLE-STRUCTURED-LOCATION;VALUE=URI;X-ADDRESS=120 south 3rd Avenue \, Rea
 ding \, Pa \, United States;X-APPLE-RADIUS=100;X-TITLE=hot yoga west readi
 ng:geo:40.333605,-75.944306
END:VEVENT
BEGIN:VTIMEZONE
TZID:America/New_York
X-LIC-LOCATION:America/New_York
BEGIN:STANDARD
DTSTART:20241103T010000
TZOFFSETFROM:-0400
TZOFFSETTO:-0500
TZNAME:EST
END:STANDARD
END:VTIMEZONE
END:VCALENDAR