BEGIN:VCALENDAR
VERSION:2.0
PRODID:-//wp-events-plugin.com//7.2.3.1//EN
TZID:America/New_York
X-WR-TIMEZONE:America/New_York
BEGIN:VEVENT
UID:231@chareejanelle.com
DTSTART;TZID=America/New_York:20250725T191500
DTEND;TZID=America/New_York:20250725T210000
DTSTAMP:20250620T105527Z
URL:https://chareejanelle.com/events-list/candlelit-restore-reiki-nidra-so
 und-hot-yoga-west-reading/
SUMMARY:CANDLELIT RESTORE\, REIKI\, NIDRA & SOUND @Hot Yoga West Reading
DESCRIPTION:CANDLELIT RESTORE\, REIKI\, NIDRA + SOUND \nIn today's fast pa
 ced world of striving\, doing &amp\; going it's very important to create s
 pace of stillness &amp\; rest. With great focus on restoring the mind\, bo
 dy &amp\; spirit\, through  strengthening the nervous system by deep rest
 \, one will discover- rediscover a renewed connection with Self.\n\n My 
  intentions are always to guide you back home to your most authentic self\
 , help you remember who you are\, who you truly are.  To be a safe sacred
  container of love\, light\, divine wisdom\n\n\nThese modalities  have th
 e power to restore and reinvigorate your inner landscape\, bringing a prof
 ound sense of tranquility and serenity.\n\nThrough loving touch and energy
  transfer\, your spiritual essence aligns with the universal flow\, meltin
 g away the stresses and burdens that weigh upon you.\n\n These practices 
 help support :\nDepression\nStress\nFatigue\nChronic pain\nOverall mental 
 clarity\nAnd much more.\n\n May this offering give you exactly what you n
 eed and more.\n\n\n\nCome fill thy cup\n\n\n\n\n\n My  intentions are al
 ways to guide you back home to your most authentic self\, help you remembe
 r who you are\, who you truly are.  To be a  sacred container of love\, 
 light\, divine wisdom &amp\; guide you back to your power\n\n\n\nThrough l
 oving touch and energy transfer\, your spiritual essence aligns with the u
 niversal flow\, melting away the stresses and burdens that weigh upon you.
 \n\n\nPlease bring a fav pillow\, blanket\, journal\, dress comfy &amp\; c
 ozy \, invite a friend &amp\; be ready to receive 😊\n\n\n\n\n\n\n\n\n\n
ATTACH;FMTTYPE=image/jpeg:https://chareejanelle.com/wp-content/uploads/202
 4/05/Screenshot_20240503_093336_Facebook.jpg
CATEGORIES:Reiki,Sound,Workshops,Yoga
LOCATION:hot yoga west reading\, 120 south 3rd Avenue \, Reading \, Pa \, U
 nited States
GEO:40.333605;-75.944306
X-APPLE-STRUCTURED-LOCATION;VALUE=URI;X-ADDRESS=120 south 3rd Avenue \, Rea
 ding \, Pa \, United States;X-APPLE-RADIUS=100;X-TITLE=hot yoga west readi
 ng:geo:40.333605,-75.944306
END:VEVENT
BEGIN:VTIMEZONE
TZID:America/New_York
X-LIC-LOCATION:America/New_York
BEGIN:DAYLIGHT
DTSTART:20250309T030000
TZOFFSETFROM:-0500
TZOFFSETTO:-0400
TZNAME:EDT
END:DAYLIGHT
END:VTIMEZONE
END:VCALENDAR